BEGIN:VCALENDAR
VERSION:2.0
PRODID:-//Hillsborough County ARES/RACES Inc. - ECPv6.15.20//NONSGML v1.0//EN
CALSCALE:GREGORIAN
METHOD:PUBLISH
X-WR-CALNAME:Hillsborough County ARES/RACES Inc.
X-ORIGINAL-URL:https://hillsboroughares.org
X-WR-CALDESC:Events for Hillsborough County ARES/RACES Inc.
REFRESH-INTERVAL;VALUE=DURATION:PT1H
X-Robots-Tag:noindex
X-PUBLISHED-TTL:PT1H
BEGIN:VTIMEZONE
TZID:America/New_York
BEGIN:DAYLIGHT
TZOFFSETFROM:-0500
TZOFFSETTO:-0400
TZNAME:EDT
DTSTART:20240310T070000
END:DAYLIGHT
BEGIN:STANDARD
TZOFFSETFROM:-0400
TZOFFSETTO:-0500
TZNAME:EST
DTSTART:20241103T060000
END:STANDARD
BEGIN:DAYLIGHT
TZOFFSETFROM:-0500
TZOFFSETTO:-0400
TZNAME:EDT
DTSTART:20250309T070000
END:DAYLIGHT
BEGIN:STANDARD
TZOFFSETFROM:-0400
TZOFFSETTO:-0500
TZNAME:EST
DTSTART:20251102T060000
END:STANDARD
BEGIN:DAYLIGHT
TZOFFSETFROM:-0500
TZOFFSETTO:-0400
TZNAME:EDT
DTSTART:20260308T070000
END:DAYLIGHT
BEGIN:STANDARD
TZOFFSETFROM:-0400
TZOFFSETTO:-0500
TZNAME:EST
DTSTART:20261101T060000
END:STANDARD
END:VTIMEZONE
BEGIN:VEVENT
DTSTART;TZID=America/New_York:20251108T090000
DTEND;TZID=America/New_York:20251108T120000
DTSTAMP:20260420T083547
CREATED:20250213T174348Z
LAST-MODIFIED:20251010T173509Z
UID:16885-1762592400-1762603200@hillsboroughares.org
SUMMARY:Bi Monthly Meeting & Cross Band Repeater Training
DESCRIPTION:Cross Band Repeater for Shelters Training will be held after the meeting.  The training will last about 90 Minutes so you will be out by Noon.
URL:https://hillsboroughares.org/event/bi-monthly-meeting/
LOCATION:Hillsborough County PSOC\, 9450 E Columbus Drive\, Tampa\, FL\, 33619\, United States
ATTACH;FMTTYPE=image/jpeg:https://hillsboroughares.org/wp-content/uploads/2021/11/PSOC-Front-NR-1.jpg
END:VEVENT
END:VCALENDAR