BEGIN:VCALENDAR
VERSION:2.0
PRODID:-//Hillsborough County ARES/RACES Inc. - ECPv6.15.20//NONSGML v1.0//EN
CALSCALE:GREGORIAN
METHOD:PUBLISH
X-WR-CALNAME:Hillsborough County ARES/RACES Inc.
X-ORIGINAL-URL:https://hillsboroughares.org
X-WR-CALDESC:Events for Hillsborough County ARES/RACES Inc.
REFRESH-INTERVAL;VALUE=DURATION:PT1H
X-Robots-Tag:noindex
X-PUBLISHED-TTL:PT1H
BEGIN:VTIMEZONE
TZID:America/New_York
BEGIN:DAYLIGHT
TZOFFSETFROM:-0500
TZOFFSETTO:-0400
TZNAME:EDT
DTSTART:20250309T070000
END:DAYLIGHT
BEGIN:STANDARD
TZOFFSETFROM:-0400
TZOFFSETTO:-0500
TZNAME:EST
DTSTART:20251102T060000
END:STANDARD
BEGIN:DAYLIGHT
TZOFFSETFROM:-0500
TZOFFSETTO:-0400
TZNAME:EDT
DTSTART:20260308T070000
END:DAYLIGHT
BEGIN:STANDARD
TZOFFSETFROM:-0400
TZOFFSETTO:-0500
TZNAME:EST
DTSTART:20261101T060000
END:STANDARD
BEGIN:DAYLIGHT
TZOFFSETFROM:-0500
TZOFFSETTO:-0400
TZNAME:EDT
DTSTART:20270314T070000
END:DAYLIGHT
BEGIN:STANDARD
TZOFFSETFROM:-0400
TZOFFSETTO:-0500
TZNAME:EST
DTSTART:20271107T060000
END:STANDARD
END:VTIMEZONE
BEGIN:VEVENT
DTSTART;TZID=America/New_York:20260124T110000
DTEND;TZID=America/New_York:20260125T170000
DTSTAMP:20260419T124512
CREATED:20260107T002731Z
LAST-MODIFIED:20260107T193942Z
UID:17287-1769252400-1769360400@hillsboroughares.org
SUMMARY:Winter Field Day at the PSOC
DESCRIPTION:  \nWinter Field Day\nSaturday\, 1/24/26 11AM – Sunday 1/25/26 459PM\nLocation: PSOC RACES room\nWe need volunteers to help get all hours covered.\nPlease contact Myesha Johnson\, AEC-PIO\nmjohnson@hcaresraces.net
URL:https://hillsboroughares.org/event/winter-field-day-at-the-psoc/
ATTACH;FMTTYPE=image/jpeg:https://hillsboroughares.org/wp-content/uploads/2021/11/PSOC-Front-NR-1.jpg
END:VEVENT
END:VCALENDAR