BEGIN:VCALENDAR
VERSION:2.0
PRODID:-//Hillsborough County ARES/RACES Inc. - ECPv6.15.20//NONSGML v1.0//EN
CALSCALE:GREGORIAN
METHOD:PUBLISH
X-WR-CALNAME:Hillsborough County ARES/RACES Inc.
X-ORIGINAL-URL:https://hillsboroughares.org
X-WR-CALDESC:Events for Hillsborough County ARES/RACES Inc.
REFRESH-INTERVAL;VALUE=DURATION:PT1H
X-Robots-Tag:noindex
X-PUBLISHED-TTL:PT1H
BEGIN:VTIMEZONE
TZID:America/New_York
BEGIN:DAYLIGHT
TZOFFSETFROM:-0500
TZOFFSETTO:-0400
TZNAME:EDT
DTSTART:20240310T070000
END:DAYLIGHT
BEGIN:STANDARD
TZOFFSETFROM:-0400
TZOFFSETTO:-0500
TZNAME:EST
DTSTART:20241103T060000
END:STANDARD
BEGIN:DAYLIGHT
TZOFFSETFROM:-0500
TZOFFSETTO:-0400
TZNAME:EDT
DTSTART:20250309T070000
END:DAYLIGHT
BEGIN:STANDARD
TZOFFSETFROM:-0400
TZOFFSETTO:-0500
TZNAME:EST
DTSTART:20251102T060000
END:STANDARD
BEGIN:DAYLIGHT
TZOFFSETFROM:-0500
TZOFFSETTO:-0400
TZNAME:EDT
DTSTART:20260308T070000
END:DAYLIGHT
BEGIN:STANDARD
TZOFFSETFROM:-0400
TZOFFSETTO:-0500
TZNAME:EST
DTSTART:20261101T060000
END:STANDARD
END:VTIMEZONE
BEGIN:VEVENT
DTSTART;VALUE=DATE:20251213
DTEND;VALUE=DATE:20251214
DTSTAMP:20260421T192925
CREATED:20251008T151044Z
LAST-MODIFIED:20251119T010054Z
UID:17131-1765584000-1765670399@hillsboroughares.org
SUMMARY:Tampa Bay Hamfest at the Strawberry Festival
DESCRIPTION:
URL:https://hillsboroughares.org/event/tampa-bay-hamfest-at-the-strawberry-festival-2/
LOCATION:Strawerry Festival Grounds\, 303 Berryfest PL\, Plant City FL\, United States
CATEGORIES:Education,Meeting
ATTACH;FMTTYPE=application/pdf:https://hillsboroughares.org/wp-content/uploads/2025/10/Hamfest-2025-2.pdf
END:VEVENT
BEGIN:VEVENT
DTSTART;TZID=America/New_York:20251217T180000
DTEND;TZID=America/New_York:20251217T190000
DTSTAMP:20260421T192925
CREATED:20251030T221508Z
LAST-MODIFIED:20251030T221508Z
UID:17178-1765994400-1765998000@hillsboroughares.org
SUMMARY:Monthly Planning Meeting
DESCRIPTION:AEC’s  Only
URL:https://hillsboroughares.org/event/monthly-planning-meeting-13/
CATEGORIES:Meeting
END:VEVENT
END:VCALENDAR