BEGIN:VCALENDAR
VERSION:2.0
PRODID:-//Hillsborough County ARES/RACES Inc. - ECPv6.15.20//NONSGML v1.0//EN
CALSCALE:GREGORIAN
METHOD:PUBLISH
X-WR-CALNAME:Hillsborough County ARES/RACES Inc.
X-ORIGINAL-URL:https://hillsboroughares.org
X-WR-CALDESC:Events for Hillsborough County ARES/RACES Inc.
REFRESH-INTERVAL;VALUE=DURATION:PT1H
X-Robots-Tag:noindex
X-PUBLISHED-TTL:PT1H
BEGIN:VTIMEZONE
TZID:America/New_York
BEGIN:DAYLIGHT
TZOFFSETFROM:-0500
TZOFFSETTO:-0400
TZNAME:EDT
DTSTART:20230312T070000
END:DAYLIGHT
BEGIN:STANDARD
TZOFFSETFROM:-0400
TZOFFSETTO:-0500
TZNAME:EST
DTSTART:20231105T060000
END:STANDARD
BEGIN:DAYLIGHT
TZOFFSETFROM:-0500
TZOFFSETTO:-0400
TZNAME:EDT
DTSTART:20240310T070000
END:DAYLIGHT
BEGIN:STANDARD
TZOFFSETFROM:-0400
TZOFFSETTO:-0500
TZNAME:EST
DTSTART:20241103T060000
END:STANDARD
BEGIN:DAYLIGHT
TZOFFSETFROM:-0500
TZOFFSETTO:-0400
TZNAME:EDT
DTSTART:20250309T070000
END:DAYLIGHT
BEGIN:STANDARD
TZOFFSETFROM:-0400
TZOFFSETTO:-0500
TZNAME:EST
DTSTART:20251102T060000
END:STANDARD
BEGIN:DAYLIGHT
TZOFFSETFROM:-0500
TZOFFSETTO:-0400
TZNAME:EDT
DTSTART:20260308T070000
END:DAYLIGHT
BEGIN:STANDARD
TZOFFSETFROM:-0400
TZOFFSETTO:-0500
TZNAME:EST
DTSTART:20261101T060000
END:STANDARD
END:VTIMEZONE
BEGIN:VEVENT
DTSTART;TZID=America/New_York:20241205T193000
DTEND;TZID=America/New_York:20241205T203000
DTSTAMP:20260421T012109
CREATED:20241122T213033Z
LAST-MODIFIED:20241122T213033Z
UID:16731-1733427000-1733430600@hillsboroughares.org
SUMMARY:ARES/RACES weekly Net
DESCRIPTION:
URL:https://hillsboroughares.org/event/ares-races-weekly-net-62/
ATTACH;FMTTYPE=image/jpeg:https://hillsboroughares.org/wp-content/uploads/2022/02/ARESNetn1cdo.jpg
END:VEVENT
BEGIN:VEVENT
DTSTART;TZID=America/New_York:20241207T080000
DTEND;TZID=America/New_York:20241207T160000
DTSTAMP:20260421T012109
CREATED:20241127T022439Z
LAST-MODIFIED:20241127T022439Z
UID:16803-1733558400-1733587200@hillsboroughares.org
SUMMARY:SKYWARN DAY at NWS Ruskin
DESCRIPTION:Visit the team at NWS
URL:https://hillsboroughares.org/event/skywarn-day-at-nws-ruskin/
END:VEVENT
BEGIN:VEVENT
DTSTART;TZID=America/New_York:20241212T193000
DTEND;TZID=America/New_York:20241212T203000
DTSTAMP:20260421T012109
CREATED:20241122T213401Z
LAST-MODIFIED:20241122T213401Z
UID:16733-1734031800-1734035400@hillsboroughares.org
SUMMARY:ARES/RACES Weekly Net
DESCRIPTION:
URL:https://hillsboroughares.org/event/ares-races-weekly-net-63/
ATTACH;FMTTYPE=image/jpeg:https://hillsboroughares.org/wp-content/uploads/2022/02/ARESNetn1cdo.jpg
END:VEVENT
BEGIN:VEVENT
DTSTART;VALUE=DATE:20241213
DTEND;VALUE=DATE:20241215
DTSTAMP:20260421T012109
CREATED:20241120T214103Z
LAST-MODIFIED:20241120T214353Z
UID:16725-1734048000-1734220799@hillsboroughares.org
SUMMARY:Tampa Bay HamFest
DESCRIPTION:Click Link Below for Details \nhttps://fgcarc.org
URL:https://hillsboroughares.org/event/tampa-bay-hamfest/
END:VEVENT
BEGIN:VEVENT
DTSTART;TZID=America/New_York:20241218T180000
DTEND;TZID=America/New_York:20241218T193000
DTSTAMP:20260421T012109
CREATED:20240717T150310Z
LAST-MODIFIED:20240903T185055Z
UID:16609-1734544800-1734550200@hillsboroughares.org
SUMMARY:Monthly AEC Planning Meeting
DESCRIPTION:AEC’s Only
URL:https://hillsboroughares.org/event/monthly-planning-meeting-7/
LOCATION:Hillsborough County PSOC\, 9450 E Columbus Drive\, Tampa\, FL\, 33619\, United States
ATTACH;FMTTYPE=image/jpeg:https://hillsboroughares.org/wp-content/uploads/2021/11/PSOC-Front-NR-1.jpg
END:VEVENT
BEGIN:VEVENT
DTSTART;TZID=America/New_York:20241219T193000
DTEND;TZID=America/New_York:20241219T203000
DTSTAMP:20260421T012109
CREATED:20241122T213551Z
LAST-MODIFIED:20241122T213551Z
UID:16735-1734636600-1734640200@hillsboroughares.org
SUMMARY:ARES/RACES Weekly Net
DESCRIPTION:
URL:https://hillsboroughares.org/event/ares-races-weekly-net-64/
ATTACH;FMTTYPE=image/jpeg:https://hillsboroughares.org/wp-content/uploads/2022/02/ARESNetn1cdo.jpg
END:VEVENT
BEGIN:VEVENT
DTSTART;TZID=America/New_York:20241226T193000
DTEND;TZID=America/New_York:20241226T203000
DTSTAMP:20260421T012109
CREATED:20241122T213729Z
LAST-MODIFIED:20241122T213729Z
UID:16737-1735241400-1735245000@hillsboroughares.org
SUMMARY:ARES/RACES Weekly Net
DESCRIPTION:
URL:https://hillsboroughares.org/event/ares-races-weekly-net-65/
ATTACH;FMTTYPE=image/jpeg:https://hillsboroughares.org/wp-content/uploads/2022/02/ARESNetn1cdo.jpg
END:VEVENT
BEGIN:VEVENT
DTSTART;TZID=America/New_York:20250102T193000
DTEND;TZID=America/New_York:20250102T203000
DTSTAMP:20260421T012109
CREATED:20241122T213936Z
LAST-MODIFIED:20241122T213936Z
UID:16739-1735846200-1735849800@hillsboroughares.org
SUMMARY:ARES/RACES Weekly Net
DESCRIPTION:
URL:https://hillsboroughares.org/event/ares-races-weekly-net-66/
ATTACH;FMTTYPE=image/jpeg:https://hillsboroughares.org/wp-content/uploads/2022/02/ARESNetn1cdo.jpg
END:VEVENT
BEGIN:VEVENT
DTSTART;TZID=America/New_York:20250108T140000
DTEND;TZID=America/New_York:20250108T150000
DTSTAMP:20260421T012109
CREATED:20241120T203641Z
LAST-MODIFIED:20250108T145641Z
UID:16710-1736344800-1736348400@hillsboroughares.org
SUMMARY:Monthly AEC Planning Meeting
DESCRIPTION:AEC\,s Only
URL:https://hillsboroughares.org/event/monthly-aec-planning-meeting/
LOCATION:Hillsborough County PSOC\, 9450 E Columbus Drive\, Tampa\, FL\, 33619\, United States
ATTACH;FMTTYPE=image/jpeg:https://hillsboroughares.org/wp-content/uploads/2021/11/PSOC-Front-NR-1.jpg
END:VEVENT
BEGIN:VEVENT
DTSTART;TZID=America/New_York:20250109T193000
DTEND;TZID=America/New_York:20250109T203000
DTSTAMP:20260421T012109
CREATED:20241122T214103Z
LAST-MODIFIED:20241122T214103Z
UID:16741-1736451000-1736454600@hillsboroughares.org
SUMMARY:ARES/RACES Weekly Net
DESCRIPTION:
URL:https://hillsboroughares.org/event/ares-races-weekly-net-67/
ATTACH;FMTTYPE=image/jpeg:https://hillsboroughares.org/wp-content/uploads/2022/02/ARESNetn1cdo.jpg
END:VEVENT
BEGIN:VEVENT
DTSTART;TZID=America/New_York:20250111T090000
DTEND;TZID=America/New_York:20250111T110000
DTSTAMP:20260421T012109
CREATED:20241120T204807Z
LAST-MODIFIED:20241206T211804Z
UID:16716-1736586000-1736593200@hillsboroughares.org
SUMMARY:ARES/RACES Quarterly Meeting
DESCRIPTION:All Radio Amateurs are Welcome \n2024 Awards will be issued
URL:https://hillsboroughares.org/event/ares-races-quarterly-meeting-5/
LOCATION:Hillsborough County PSOC\, 9450 E Columbus Drive\, Tampa\, FL\, 33619\, United States
CATEGORIES:Meeting
ATTACH;FMTTYPE=image/jpeg:https://hillsboroughares.org/wp-content/uploads/2021/11/PSOC-Front-NR-1.jpg
END:VEVENT
BEGIN:VEVENT
DTSTART;TZID=America/New_York:20250116T193000
DTEND;TZID=America/New_York:20250116T203000
DTSTAMP:20260421T012109
CREATED:20241122T214317Z
LAST-MODIFIED:20241122T214317Z
UID:16743-1737055800-1737059400@hillsboroughares.org
SUMMARY:ARES/RACES Weekly Net
DESCRIPTION:
URL:https://hillsboroughares.org/event/ares-races-weekly-net-68/
ATTACH;FMTTYPE=image/jpeg:https://hillsboroughares.org/wp-content/uploads/2022/02/ARESNetn1cdo.jpg
END:VEVENT
BEGIN:VEVENT
DTSTART;VALUE=DATE:20250118
DTEND;VALUE=DATE:20250119
DTSTAMP:20260421T012109
CREATED:20241120T203958Z
LAST-MODIFIED:20241120T203958Z
UID:16714-1737158400-1737244799@hillsboroughares.org
SUMMARY:Children's Gasparilla
DESCRIPTION:
URL:https://hillsboroughares.org/event/childrens-gasparilla/
END:VEVENT
BEGIN:VEVENT
DTSTART;TZID=America/New_York:20250118T080000
DTEND;TZID=America/New_York:20250118T130000
DTSTAMP:20260421T012109
CREATED:20241204T175226Z
LAST-MODIFIED:20241206T212136Z
UID:16812-1737187200-1737205200@hillsboroughares.org
SUMMARY:TARCFest
DESCRIPTION:
URL:https://hillsboroughares.org/event/tarcfest-3/
LOCATION:TARC Club House\, 7801 N 22nd St\, Tampa\, FL\, 33610\, United States
END:VEVENT
BEGIN:VEVENT
DTSTART;TZID=America/New_York:20250123T193000
DTEND;TZID=America/New_York:20250123T203000
DTSTAMP:20260421T012109
CREATED:20241122T214507Z
LAST-MODIFIED:20241122T214507Z
UID:16745-1737660600-1737664200@hillsboroughares.org
SUMMARY:ARES/RACES Weekly Net
DESCRIPTION:
URL:https://hillsboroughares.org/event/ares-races-weekly-net-69/
ATTACH;FMTTYPE=image/jpeg:https://hillsboroughares.org/wp-content/uploads/2022/02/ARESNetn1cdo.jpg
END:VEVENT
BEGIN:VEVENT
DTSTART;VALUE=DATE:20250125
DTEND;VALUE=DATE:20250126
DTSTAMP:20260421T012109
CREATED:20241120T203830Z
LAST-MODIFIED:20241120T203830Z
UID:16712-1737763200-1737849599@hillsboroughares.org
SUMMARY:Gasparilla Prade
DESCRIPTION:
URL:https://hillsboroughares.org/event/gasparilla-prade/
END:VEVENT
BEGIN:VEVENT
DTSTART;VALUE=DATE:20250125
DTEND;VALUE=DATE:20250127
DTSTAMP:20260421T012109
CREATED:20250115T152925Z
LAST-MODIFIED:20250115T152925Z
UID:16825-1737763200-1737935999@hillsboroughares.org
SUMMARY:Winter Field Day
DESCRIPTION:
URL:https://hillsboroughares.org/event/winter-field-day-2/
LOCATION:Hillsborough County PSOC\, 9450 E Columbus Drive\, Tampa\, FL\, 33619\, United States
ATTACH;FMTTYPE=image/jpeg:https://hillsboroughares.org/wp-content/uploads/2021/11/PSOC-Front-NR-1.jpg
END:VEVENT
BEGIN:VEVENT
DTSTART;TZID=America/New_York:20250130T193000
DTEND;TZID=America/New_York:20250130T203000
DTSTAMP:20260421T012109
CREATED:20241122T214636Z
LAST-MODIFIED:20241122T214636Z
UID:16747-1738265400-1738269000@hillsboroughares.org
SUMMARY:ARES/RACES Weekly Net
DESCRIPTION:
URL:https://hillsboroughares.org/event/ares-races-weekly-net-70/
ATTACH;FMTTYPE=image/jpeg:https://hillsboroughares.org/wp-content/uploads/2022/02/ARESNetn1cdo.jpg
END:VEVENT
BEGIN:VEVENT
DTSTART;TZID=America/New_York:20250201T080000
DTEND;TZID=America/New_York:20250201T170000
DTSTAMP:20260421T012109
CREATED:20241122T220146Z
LAST-MODIFIED:20241122T220146Z
UID:16759-1738396800-1738429200@hillsboroughares.org
SUMMARY:Amateur Radio Technician License Class
DESCRIPTION:Hillsborough County ARES/RACES is proud to sponsor the  Amateur Radio “Technician” License Course in a traditional classroom setting. Please invite your friends to come join the several hundred people who have taken this courses and earned an Amateur Radio license during the last few years. \nThis is 2 day class. You must attend both days of the class. The class is from 8am to 5pm on Saturday\, Feb. 1st and Saturday\, FEB. 15th.  Testing will take place on Feb. 15th at 3 pm. \nThe cost is $45 – this includes both classes\, your book\, testing fee and any additional materials. \nThere will be several breaks and 1 hour for lunch. There are fridges at the PSOC for brought lunches\, Uber Eats delivers there and many restaurants close by to choose from. \nYou Must obtain a FCC issued FRN number Before taking the Test. \nWe will explain how to apply during the first class session. \nThe FCC will collect a $35 fee when your License Application is approved.\n\nThe new $35 application fee applies to new\, renewal\, rule waiver\, and modification applications that request a new vanity call sign. The fee will be per application. \nAdministrative updates\, such as a change of name\, mailing or email address\, and modification applications to upgrade an amateur radio licensee’s operator class or to request a sequentially issued call sign\, are exempt from fees. \nYou can review the details of the Fee on the ARRL Website at \nhttps://www.arrl.org/fcc-application-fee
URL:https://hillsboroughares.org/event/amateur-radio-technician-license-class/
LOCATION:Hillsborough County PSOC\, 9450 E Columbus Drive\, Tampa\, FL\, 33619\, United States
CATEGORIES:Education,Training
ATTACH;FMTTYPE=image/jpeg:https://hillsboroughares.org/wp-content/uploads/2021/11/PSOC-Front-NR-1.jpg
END:VEVENT
BEGIN:VEVENT
DTSTART;TZID=America/New_York:20250201T080000
DTEND;TZID=America/New_York:20250201T170000
DTSTAMP:20260421T012109
CREATED:20241122T221026Z
LAST-MODIFIED:20250129T163103Z
UID:16763-1738396800-1738429200@hillsboroughares.org
SUMMARY:Amateur Radio General License Class
DESCRIPTION:Hillsborough County ARES/RACES is proud to sponsor the  Amateur Radio “General” License Course in a traditional classroom setting. Please invite your friends to come join the several hundred people who have taken this courses and earned an Amateur Radio license during the last few years. \nThis is 2 day class. You must attend both days of the class. The class is from 8am to 5pm on Saturday\, FEB. 1st and Saturday\, FEB. 15th.  Testing will take place on FEB 15th at 3 pm. \nThe cost is $45 – this includes both classes\, your book\, testing fee and any additional materials. \nThere will be several breaks and 1 hour for lunch. There are fridges at the PSOC for brought lunches\, Uber Eats delivers there and many restaurants close by to choose from. \nYou Must obtain a FCC issued FRN number Before taking the Test. \nWe will explain how to apply during the first class session. \nThe FCC will collect a $35 fee when your License Application is approved.\n\nThe new $35 application fee applies to new\, renewal\, rule waiver\, and modification applications that request a new vanity call sign. The fee will be per application. \nAdministrative updates\, such as a change of name\, mailing or email address\, and modification applications to upgrade an amateur radio licensee’s operator class or to request a sequentially issued call sign\, are exempt from fees. \nYou can review the details of the Fee on the ARRL Website at \nhttps://www.arrl.org/fcc-application-fee
URL:https://hillsboroughares.org/event/amateur-radio-general-license-class/
LOCATION:Hillsborough County PSOC\, 9450 E Columbus Drive\, Tampa\, FL\, 33619\, United States
CATEGORIES:Education,Training
ATTACH;FMTTYPE=image/jpeg:https://hillsboroughares.org/wp-content/uploads/2021/11/PSOC-Front-NR-1.jpg
END:VEVENT
BEGIN:VEVENT
DTSTART;TZID=America/New_York:20250205T130000
DTEND;TZID=America/New_York:20250205T140000
DTSTAMP:20260421T012109
CREATED:20250112T194939Z
LAST-MODIFIED:20250112T194939Z
UID:16819-1738760400-1738764000@hillsboroughares.org
SUMMARY:Geochron Presentation at Sun City
DESCRIPTION:Sun City Center ARC is hosting a Geochron Presentation at 13:00 Feb. 5th in the Florida room at the Sun City Center Club House 1009 N. Pebble Beach Blvd.
URL:https://hillsboroughares.org/event/geochron-presentation-at-sun-city/
END:VEVENT
BEGIN:VEVENT
DTSTART;TZID=America/New_York:20250206T193000
DTEND;TZID=America/New_York:20250206T203000
DTSTAMP:20260421T012109
CREATED:20241122T214830Z
LAST-MODIFIED:20241122T214830Z
UID:16749-1738870200-1738873800@hillsboroughares.org
SUMMARY:ARES/RACES Weekly Net
DESCRIPTION:
URL:https://hillsboroughares.org/event/ares-races-weekly-net-71/
ATTACH;FMTTYPE=image/jpeg:https://hillsboroughares.org/wp-content/uploads/2022/02/ARESNetn1cdo.jpg
END:VEVENT
BEGIN:VEVENT
DTSTART;TZID=America/New_York:20250207T080000
DTEND;TZID=America/New_York:20250209T170000
DTSTAMP:20260421T012109
CREATED:20241204T185201Z
LAST-MODIFIED:20241204T185201Z
UID:16815-1738915200-1739120400@hillsboroughares.org
SUMMARY:Orlando HamCation 2025
DESCRIPTION:
URL:https://hillsboroughares.org/event/orlando-hamcation-2025/
END:VEVENT
BEGIN:VEVENT
DTSTART;TZID=America/New_York:20250213T193000
DTEND;TZID=America/New_York:20250213T203000
DTSTAMP:20260421T012109
CREATED:20241122T215004Z
LAST-MODIFIED:20241122T215004Z
UID:16751-1739475000-1739478600@hillsboroughares.org
SUMMARY:ARES/RACES Weekly Net
DESCRIPTION:
URL:https://hillsboroughares.org/event/ares-races-weekly-net-72/
ATTACH;FMTTYPE=image/jpeg:https://hillsboroughares.org/wp-content/uploads/2022/02/ARESNetn1cdo.jpg
END:VEVENT
BEGIN:VEVENT
DTSTART;TZID=America/New_York:20250215T080000
DTEND;TZID=America/New_York:20250215T170000
DTSTAMP:20260421T012109
CREATED:20241122T220424Z
LAST-MODIFIED:20241122T220424Z
UID:16761-1739606400-1739638800@hillsboroughares.org
SUMMARY:Amateur Radio Technician License Class
DESCRIPTION:Hillsborough County ARES/RACES is proud to sponsor the  Amateur Radio “Technician” License Course in a traditional classroom setting. Please invite your friends to come join the several hundred people who have taken this courses and earned an Amateur Radio license during the last few years. \nThis is 2 day class. You must attend both days of the class. The class is from 8am to 5pm on Saturday\, Feb. 1st and Saturday\, FEB. 15th.  Testing will take place on Feb. 15th at 3 pm. \nThe cost is $45 – this includes both classes\, your book\, testing fee and any additional materials. \nThere will be several breaks and 1 hour for lunch. There are fridges at the PSOC for brought lunches\, Uber Eats delivers there and many restaurants close by to choose from. \nYou Must obtain a FCC issued FRN number Before taking the Test. \nWe will explain how to apply during the first class session. \nThe FCC will collect a $35 fee when your License Application is approved.\n\nThe new $35 application fee applies to new\, renewal\, rule waiver\, and modification applications that request a new vanity call sign. The fee will be per application. \nAdministrative updates\, such as a change of name\, mailing or email address\, and modification applications to upgrade an amateur radio licensee’s operator class or to request a sequentially issued call sign\, are exempt from fees. \nYou can review the details of the Fee on the ARRL Website at \nhttps://www.arrl.org/fcc-application-fee
URL:https://hillsboroughares.org/event/amateur-radio-technician-license-class-2/
LOCATION:Hillsborough County PSOC\, 9450 E Columbus Drive\, Tampa\, FL\, 33619\, United States
CATEGORIES:Education,Training
ATTACH;FMTTYPE=image/jpeg:https://hillsboroughares.org/wp-content/uploads/2021/11/PSOC-Front-NR-1.jpg
END:VEVENT
BEGIN:VEVENT
DTSTART;TZID=America/New_York:20250215T080000
DTEND;TZID=America/New_York:20250215T170000
DTSTAMP:20260421T012109
CREATED:20241122T221257Z
LAST-MODIFIED:20250210T192903Z
UID:16765-1739606400-1739638800@hillsboroughares.org
SUMMARY:Amateur Radio General License Class
DESCRIPTION:Hillsborough County ARES/RACES is proud to sponsor the  Amateur Radio “General” License Course in a traditional classroom setting. Please invite your friends to come join the several hundred people who have taken this courses and earned an Amateur Radio license during the last few years. \nThis is 2 day class. You must attend both days of the class. The class is from 8am to 5pm on Saturday\, FEB. 1st and Saturday\, FEB. 15th.  Testing will take place on FEB 15th at 3 pm. \nThe cost is $45 – this includes both classes\, your book\, testing fee and any additional materials. \nThere will be several breaks and 1 hour for lunch. There are fridges at the PSOC for brought lunches\, Uber Eats delivers there and many restaurants close by to choose from. \nYou Must obtain a FCC issued FRN number Before taking the Test. \nWe will explain how to apply during the first class session. \nThe FCC will collect a $35 fee when your License Application is approved.\n\nThe new $35 application fee applies to new\, renewal\, rule waiver\, and modification applications that request a new vanity call sign. The fee will be per application. \nAdministrative updates\, such as a change of name\, mailing or email address\, and modification applications to upgrade an amateur radio licensee’s operator class or to request a sequentially issued call sign\, are exempt from fees. \nYou can review the details of the Fee on the ARRL Website at \nhttps://www.arrl.org/fcc-application-fee
URL:https://hillsboroughares.org/event/amateur-radio-general-license-class-2/
LOCATION:Hillsborough County PSOC\, 9450 E Columbus Drive\, Tampa\, FL\, 33619\, United States
CATEGORIES:Education,Training
ATTACH;FMTTYPE=image/jpeg:https://hillsboroughares.org/wp-content/uploads/2021/11/PSOC-Front-NR-1.jpg
END:VEVENT
BEGIN:VEVENT
DTSTART;TZID=America/New_York:20250219T180000
DTEND;TZID=America/New_York:20250219T190000
DTSTAMP:20260421T012109
CREATED:20241120T212056Z
LAST-MODIFIED:20241120T213513Z
UID:16723-1739988000-1739991600@hillsboroughares.org
SUMMARY:Monthly AEC Planning Meeting
DESCRIPTION:AEC’s Only
URL:https://hillsboroughares.org/event/monthly-aec-planning-meeting-2/
LOCATION:Hillsborough County PSOC\, 9450 E Columbus Drive\, Tampa\, FL\, 33619\, United States
ATTACH;FMTTYPE=image/jpeg:https://hillsboroughares.org/wp-content/uploads/2021/11/PSOC-Front-NR-1.jpg
END:VEVENT
BEGIN:VEVENT
DTSTART;TZID=America/New_York:20250220T080000
DTEND;TZID=America/New_York:20250220T170000
DTSTAMP:20260421T012109
CREATED:20241122T215117Z
LAST-MODIFIED:20241122T215117Z
UID:16753-1740038400-1740070800@hillsboroughares.org
SUMMARY:ARES/RACES Weekly Net
DESCRIPTION:
URL:https://hillsboroughares.org/event/ares-races-weekly-net-73/
ATTACH;FMTTYPE=image/jpeg:https://hillsboroughares.org/wp-content/uploads/2022/02/ARESNetn1cdo.jpg
END:VEVENT
BEGIN:VEVENT
DTSTART;VALUE=DATE:20250222
DTEND;VALUE=DATE:20250223
DTSTAMP:20260421T012109
CREATED:20241120T211647Z
LAST-MODIFIED:20250212T164958Z
UID:16718-1740182400-1740268799@hillsboroughares.org
SUMMARY:WCF ARRL TECHCON
DESCRIPTION:Polk County EOC \nClick for Information
URL:https://hillsboroughares.org/event/wcf-arrl-techcon/
LOCATION:Polk County EOC\, 1710 U.S. Hwy 17 S\, Bartow\, FL\, 33830\, United States
END:VEVENT
BEGIN:VEVENT
DTSTART;TZID=America/New_York:20250226T130000
DTEND;TZID=America/New_York:20250226T133000
DTSTAMP:20260421T012109
CREATED:20250210T215345Z
LAST-MODIFIED:20250210T215345Z
UID:16857-1740574800-1740576600@hillsboroughares.org
SUMMARY:Host SAR Net
DESCRIPTION:
URL:https://hillsboroughares.org/event/host-sar-net-3/
ATTACH;FMTTYPE=image/jpeg:https://hillsboroughares.org/wp-content/uploads/2021/11/PSOC-Front-NR-1.jpg
END:VEVENT
END:VCALENDAR