BEGIN:VCALENDAR
VERSION:2.0
PRODID:-//Hillsborough County ARES/RACES Inc. - ECPv6.15.20//NONSGML v1.0//EN
CALSCALE:GREGORIAN
METHOD:PUBLISH
X-ORIGINAL-URL:https://hillsboroughares.org
X-WR-CALDESC:Events for Hillsborough County ARES/RACES Inc.
REFRESH-INTERVAL;VALUE=DURATION:PT1H
X-Robots-Tag:noindex
X-PUBLISHED-TTL:PT1H
BEGIN:VTIMEZONE
TZID:America/New_York
BEGIN:DAYLIGHT
TZOFFSETFROM:-0500
TZOFFSETTO:-0400
TZNAME:EDT
DTSTART:20250309T070000
END:DAYLIGHT
BEGIN:STANDARD
TZOFFSETFROM:-0400
TZOFFSETTO:-0500
TZNAME:EST
DTSTART:20251102T060000
END:STANDARD
BEGIN:DAYLIGHT
TZOFFSETFROM:-0500
TZOFFSETTO:-0400
TZNAME:EDT
DTSTART:20260308T070000
END:DAYLIGHT
BEGIN:STANDARD
TZOFFSETFROM:-0400
TZOFFSETTO:-0500
TZNAME:EST
DTSTART:20261101T060000
END:STANDARD
BEGIN:DAYLIGHT
TZOFFSETFROM:-0500
TZOFFSETTO:-0400
TZNAME:EDT
DTSTART:20270314T070000
END:DAYLIGHT
BEGIN:STANDARD
TZOFFSETFROM:-0400
TZOFFSETTO:-0500
TZNAME:EST
DTSTART:20271107T060000
END:STANDARD
END:VTIMEZONE
BEGIN:VEVENT
DTSTART;VALUE=DATE:20260511
DTEND;VALUE=DATE:20260514
DTSTAMP:20260419T164925
CREATED:20260408T171736Z
LAST-MODIFIED:20260408T171736Z
UID:17357-1778457600-1778716799@hillsboroughares.org
SUMMARY:Airport Drill
DESCRIPTION:
URL:https://hillsboroughares.org/event/airport-drill/
END:VEVENT
BEGIN:VEVENT
DTSTART;TZID=America/New_York:20260516T090000
DTEND;TZID=America/New_York:20260516T110000
DTSTAMP:20260419T164925
CREATED:20260106T001334Z
LAST-MODIFIED:20260225T164252Z
UID:17268-1778922000-1778929200@hillsboroughares.org
SUMMARY:ARES/RACES Bi Monthly Meeting - Skywarn Training
DESCRIPTION:After the Meeting there will be a Skywarn Training Class provided by NWS Ruskin
URL:https://hillsboroughares.org/event/ares-races-bi-monthly-meeting-3/
LOCATION:Hillsborough County PSOC\, 9450 E Columbus Drive\, Tampa\, FL\, 33619\, United States
ATTACH;FMTTYPE=image/jpeg:https://hillsboroughares.org/wp-content/uploads/2021/11/PSOC-Front-NR-1.jpg
END:VEVENT
BEGIN:VEVENT
DTSTART;TZID=America/New_York:20260822T080000
DTEND;TZID=America/New_York:20260822T130000
DTSTAMP:20260419T164925
CREATED:20260106T202029Z
LAST-MODIFIED:20260106T202029Z
UID:17285-1787385600-1787403600@hillsboroughares.org
SUMMARY:TARC FEST
DESCRIPTION:8am to 1pm at the TARC Clubhouse 
URL:https://hillsboroughares.org/event/tarc-fest-4/
LOCATION:TARC Club House\, 7801 N 22nd St\, Tampa\, FL\, 33610\, United States
END:VEVENT
END:VCALENDAR