BEGIN:VCALENDAR
VERSION:2.0
PRODID:-//Hillsborough County ARES/RACES Inc. - ECPv6.15.20//NONSGML v1.0//EN
CALSCALE:GREGORIAN
METHOD:PUBLISH
X-WR-CALNAME:Hillsborough County ARES/RACES Inc.
X-ORIGINAL-URL:https://hillsboroughares.org
X-WR-CALDESC:Events for Hillsborough County ARES/RACES Inc.
REFRESH-INTERVAL;VALUE=DURATION:PT1H
X-Robots-Tag:noindex
X-PUBLISHED-TTL:PT1H
BEGIN:VTIMEZONE
TZID:America/New_York
BEGIN:DAYLIGHT
TZOFFSETFROM:-0500
TZOFFSETTO:-0400
TZNAME:EDT
DTSTART:20240310T070000
END:DAYLIGHT
BEGIN:STANDARD
TZOFFSETFROM:-0400
TZOFFSETTO:-0500
TZNAME:EST
DTSTART:20241103T060000
END:STANDARD
BEGIN:DAYLIGHT
TZOFFSETFROM:-0500
TZOFFSETTO:-0400
TZNAME:EDT
DTSTART:20250309T070000
END:DAYLIGHT
BEGIN:STANDARD
TZOFFSETFROM:-0400
TZOFFSETTO:-0500
TZNAME:EST
DTSTART:20251102T060000
END:STANDARD
BEGIN:DAYLIGHT
TZOFFSETFROM:-0500
TZOFFSETTO:-0400
TZNAME:EDT
DTSTART:20260308T070000
END:DAYLIGHT
BEGIN:STANDARD
TZOFFSETFROM:-0400
TZOFFSETTO:-0500
TZNAME:EST
DTSTART:20261101T060000
END:STANDARD
END:VTIMEZONE
BEGIN:VEVENT
DTSTART;TZID=America/New_York:20250820T180000
DTEND;TZID=America/New_York:20250820T190000
DTSTAMP:20260419T234731
CREATED:20250707T153655Z
LAST-MODIFIED:20250713T222411Z
UID:17021-1755712800-1755716400@hillsboroughares.org
SUMMARY:Planning Meeting
DESCRIPTION:AEC’s Only
URL:https://hillsboroughares.org/event/planning-meeting-3/
END:VEVENT
BEGIN:VEVENT
DTSTART;TZID=America/New_York:20250821T193000
DTEND;TZID=America/New_York:20250821T200000
DTSTAMP:20260419T234731
CREATED:20250707T154441Z
LAST-MODIFIED:20250713T222445Z
UID:17027-1755804600-1755806400@hillsboroughares.org
SUMMARY:ARES/RACES Weekly Net
DESCRIPTION:
URL:https://hillsboroughares.org/event/ares-races-weekly-net-99/
ATTACH;FMTTYPE=image/jpeg:https://hillsboroughares.org/wp-content/uploads/2025/06/New-ARES-Net.jpg
END:VEVENT
BEGIN:VEVENT
DTSTART;TZID=America/New_York:20250823T080000
DTEND;TZID=America/New_York:20250823T130000
DTSTAMP:20260419T234731
CREATED:20241204T164845Z
LAST-MODIFIED:20250730T162922Z
UID:16809-1755936000-1755954000@hillsboroughares.org
SUMMARY:TARCFest
DESCRIPTION:
URL:https://hillsboroughares.org/event/tarcfest/
LOCATION:TARC Club House\, 7801 N 22nd St\, Tampa\, FL\, 33610\, United States
ATTACH;FMTTYPE=application/pdf:https://hillsboroughares.org/wp-content/uploads/2024/12/TARCFest-August-2025-1.pdf
END:VEVENT
BEGIN:VEVENT
DTSTART;TZID=America/New_York:20250828T193000
DTEND;TZID=America/New_York:20250828T200000
DTSTAMP:20260419T234731
CREATED:20250707T155552Z
LAST-MODIFIED:20250713T222527Z
UID:17029-1756409400-1756411200@hillsboroughares.org
SUMMARY:ARES/RACES Weekly Net
DESCRIPTION:
URL:https://hillsboroughares.org/event/ares-races-weekly-net-100/
ATTACH;FMTTYPE=image/jpeg:https://hillsboroughares.org/wp-content/uploads/2025/06/New-ARES-Net.jpg
END:VEVENT
BEGIN:VEVENT
DTSTART;TZID=America/New_York:20250904T193000
DTEND;TZID=America/New_York:20250904T200000
DTSTAMP:20260419T234731
CREATED:20250823T224653Z
LAST-MODIFIED:20250823T225334Z
UID:17081-1757014200-1757016000@hillsboroughares.org
SUMMARY:ARES/RACES Weekly Net
DESCRIPTION:
URL:https://hillsboroughares.org/event/ares-races-weekly-net-101/
LOCATION:Hillsborough County PSOC\, 9450 E Columbus Drive\, Tampa\, FL\, 33619\, United States
ATTACH;FMTTYPE=image/jpeg:https://hillsboroughares.org/wp-content/uploads/2025/06/New-ARES-Net.jpg
END:VEVENT
BEGIN:VEVENT
DTSTART;TZID=America/New_York:20250911T193000
DTEND;TZID=America/New_York:20250911T200000
DTSTAMP:20260419T234731
CREATED:20250823T225104Z
LAST-MODIFIED:20250823T225104Z
UID:17083-1757619000-1757620800@hillsboroughares.org
SUMMARY:ARES/RACES Weekly Net
DESCRIPTION:
URL:https://hillsboroughares.org/event/ares-races-weekly-net-102/
ATTACH;FMTTYPE=image/jpeg:https://hillsboroughares.org/wp-content/uploads/2025/06/New-ARES-Net.jpg
END:VEVENT
BEGIN:VEVENT
DTSTART;TZID=America/New_York:20250913T090000
DTEND;TZID=America/New_York:20250913T113000
DTSTAMP:20260419T234731
CREATED:20250210T191603Z
LAST-MODIFIED:20250823T232735Z
UID:16851-1757754000-1757763000@hillsboroughares.org
SUMMARY:BiMonthly ARES/RACES Meeting
DESCRIPTION:Training after meeting will be on \n “Proper Use Of ICS Forms”  By Chris Smyth of EOC
URL:https://hillsboroughares.org/event/bimonthly-ares-races-meeting-4/
LOCATION:Hillsborough County PSOC\, 9450 E Columbus Drive\, Tampa\, FL\, 33619\, United States
ATTACH;FMTTYPE=image/jpeg:https://hillsboroughares.org/wp-content/uploads/2021/11/PSOC-Front-NR-1.jpg
END:VEVENT
BEGIN:VEVENT
DTSTART;TZID=America/New_York:20250917T180000
DTEND;TZID=America/New_York:20250917T190000
DTSTAMP:20260419T234731
CREATED:20250823T232210Z
LAST-MODIFIED:20250823T232210Z
UID:17111-1758132000-1758135600@hillsboroughares.org
SUMMARY:Monthly Planning Meeting
DESCRIPTION:AEC’s Only
URL:https://hillsboroughares.org/event/monthly-planning-meeting-11/
LOCATION:Hillsborough County PSOC\, 9450 E Columbus Drive\, Tampa\, FL\, 33619\, United States
ATTACH;FMTTYPE=image/jpeg:https://hillsboroughares.org/wp-content/uploads/2021/11/PSOC-Front-NR-1.jpg
END:VEVENT
BEGIN:VEVENT
DTSTART;TZID=America/New_York:20250918T193000
DTEND;TZID=America/New_York:20250918T200000
DTSTAMP:20260419T234731
CREATED:20250823T225601Z
LAST-MODIFIED:20250823T225601Z
UID:17085-1758223800-1758225600@hillsboroughares.org
SUMMARY:ARES/RACES Weekly Net
DESCRIPTION:
URL:https://hillsboroughares.org/event/ares-races-weekly-net-103/
ATTACH;FMTTYPE=image/jpeg:https://hillsboroughares.org/wp-content/uploads/2025/06/New-ARES-Net.jpg
END:VEVENT
BEGIN:VEVENT
DTSTART;TZID=America/New_York:20250925T193000
DTEND;TZID=America/New_York:20250925T200000
DTSTAMP:20260419T234731
CREATED:20250823T225753Z
LAST-MODIFIED:20250823T225753Z
UID:17087-1758828600-1758830400@hillsboroughares.org
SUMMARY:ARES/RACES Weekly Net
DESCRIPTION:
URL:https://hillsboroughares.org/event/ares-races-weekly-net-104/
ATTACH;FMTTYPE=image/jpeg:https://hillsboroughares.org/wp-content/uploads/2025/06/New-ARES-Net.jpg
END:VEVENT
BEGIN:VEVENT
DTSTART;TZID=America/New_York:20251002T193000
DTEND;TZID=America/New_York:20251002T200000
DTSTAMP:20260419T234731
CREATED:20250823T225927Z
LAST-MODIFIED:20250823T225927Z
UID:17089-1759433400-1759435200@hillsboroughares.org
SUMMARY:ARES/RACES Weekly Net
DESCRIPTION:
URL:https://hillsboroughares.org/event/ares-races-weekly-net-105/
ATTACH;FMTTYPE=image/jpeg:https://hillsboroughares.org/wp-content/uploads/2025/06/New-ARES-Net.jpg
END:VEVENT
BEGIN:VEVENT
DTSTART;TZID=America/New_York:20251004T080000
DTEND;TZID=America/New_York:20251004T170000
DTSTAMP:20260419T234731
CREATED:20250213T173820Z
LAST-MODIFIED:20250930T125517Z
UID:16881-1759564800-1759597200@hillsboroughares.org
SUMMARY:Amateur Radio Technician License Class
DESCRIPTION:Hillsborough County ARES/RACES is proud to sponsor the  Amateur Radio “Technician” License Course in a traditional classroom setting. Please invite your friends to come join the several hundred people who have taken this courses and earned an Amateur Radio license during the last few years. \nThis is 2 day class. You must attend both days of the class. The class is from 8am to 5pm on Saturday\, October 4th and Saturday\, October 18th .  Testing will take place on October 18th  at 2 pm. \nThe cost is $45 – this includes both classes\, your book\, testing fee and any additional materials. \nThere will be several breaks and 1 hour for lunch. There are fridges at the PSOC for brought lunches\, Uber Eats delivers there and many restaurants close by to choose from. \nYou Must obtain a FCC issued FRN number Before taking the Test. \nWe will explain how to apply during the first class session. \nThe FCC will collect a $35 fee when your License Application is approved.\n\nThe new $35 application fee applies to new\, renewal\, rule waiver\, and modification applications that request a new vanity call sign. The fee will be per application. \nAdministrative updates\, such as a change of name\, mailing or email address\, and modification applications to upgrade an amateur radio licensee’s operator class or to request a sequentially issued call sign\, are exempt from fees. \nYou can review the details of the Fee on the ARRL Website at \nhttps://www.arrl.org/fcc-application-fee
URL:https://hillsboroughares.org/event/amateur-radio-classes-3/
LOCATION:Hillsborough County PSOC\, 9450 E Columbus Drive\, Tampa\, FL\, 33619\, United States
ATTACH;FMTTYPE=image/jpeg:https://hillsboroughares.org/wp-content/uploads/2021/11/PSOC-Front-NR-1.jpg
END:VEVENT
BEGIN:VEVENT
DTSTART;TZID=America/New_York:20251004T080000
DTEND;TZID=America/New_York:20251004T170000
DTSTAMP:20260419T234731
CREATED:20250213T174015Z
LAST-MODIFIED:20250930T125618Z
UID:16883-1759564800-1759597200@hillsboroughares.org
SUMMARY:Amateur Radio General License Class
DESCRIPTION:Hillsborough County ARES/RACES is proud to sponsor the  Amateur Radio “General” License Course in a traditional classroom setting. Please invite your friends to come join the several hundred people who have taken this courses and earned an Amateur Radio license during the last few years. \nThis is 2 day class. You must attend both days of the class. The class is from 8am to 5pm on Saturday\, October 4th  and Saturday\, October 18th.  Testing will take place on October 18th  at 2 pm. \nThe cost is $45 – this includes both classes\, your book\, testing fee and any additional m9thaterials. \nThere will be several breaks and 1 hour for lunch. There are fridges at the PSOC for brought lunches\, Uber Eats delivers there and many restaurants close by to choose from. \nYou Must obtain a FCC issued FRN number Before taking the Test. \nWe will explain how to apply during the first class session. \nThe FCC will collect a $35 fee when your License Application is approved.\n\nThe new $35 application fee applies to new\, renewal\, rule waiver\, and modification applications that request a new vanity call sign. The fee will be per application. \nAdministrative updates\, such as a change of name\, mailing or email address\, and modification applications to upgrade an amateur radio licensee’s operator class or to request a sequentially issued call sign\, are exempt from fees. \nYou can review the details of the Fee on the ARRL Website at \nhttps://www.arrl.org/fcc-application-fee
URL:https://hillsboroughares.org/event/amateur-radio-classes-4/
LOCATION:Hillsborough County PSOC\, 9450 E Columbus Drive\, Tampa\, FL\, 33619\, United States
ATTACH;FMTTYPE=image/jpeg:https://hillsboroughares.org/wp-content/uploads/2021/11/PSOC-Front-NR-1.jpg
END:VEVENT
BEGIN:VEVENT
DTSTART;TZID=America/New_York:20251009T193000
DTEND;TZID=America/New_York:20251009T200000
DTSTAMP:20260419T234731
CREATED:20250823T230122Z
LAST-MODIFIED:20250823T230122Z
UID:17091-1760038200-1760040000@hillsboroughares.org
SUMMARY:ARES/RACES Weekly Net
DESCRIPTION:
URL:https://hillsboroughares.org/event/ares-races-weekly-net-106/
ATTACH;FMTTYPE=image/jpeg:https://hillsboroughares.org/wp-content/uploads/2025/06/New-ARES-Net.jpg
END:VEVENT
BEGIN:VEVENT
DTSTART;TZID=America/New_York:20251015T180000
DTEND;TZID=America/New_York:20251015T190000
DTSTAMP:20260419T234731
CREATED:20251010T234623Z
LAST-MODIFIED:20251010T234623Z
UID:17141-1760551200-1760554800@hillsboroughares.org
SUMMARY:Monthly Planning Meeting
DESCRIPTION:AEC’s Only
URL:https://hillsboroughares.org/event/monthly-planning-meeting/
ATTACH;FMTTYPE=image/jpeg:https://hillsboroughares.org/wp-content/uploads/2021/11/PSOC-Front-NR-1.jpg
END:VEVENT
BEGIN:VEVENT
DTSTART;TZID=America/New_York:20251016T193000
DTEND;TZID=America/New_York:20251016T200000
DTSTAMP:20260419T234731
CREATED:20250823T230311Z
LAST-MODIFIED:20250823T230311Z
UID:17093-1760643000-1760644800@hillsboroughares.org
SUMMARY:ARES/RACES Weekly Net
DESCRIPTION:
URL:https://hillsboroughares.org/event/ares-races-weekly-net-107/
ATTACH;FMTTYPE=image/jpeg:https://hillsboroughares.org/wp-content/uploads/2025/06/New-ARES-Net.jpg
END:VEVENT
BEGIN:VEVENT
DTSTART;TZID=America/New_York:20251018T080000
DTEND;TZID=America/New_York:20251018T170000
DTSTAMP:20260419T234731
CREATED:20250723T181630Z
LAST-MODIFIED:20250930T125706Z
UID:17043-1760774400-1760806800@hillsboroughares.org
SUMMARY:Amateur Radio Technician License Class
DESCRIPTION:Hillsborough County ARES/RACES is proud to sponsor the  Amateur Radio “Technician” License Course in a traditional classroom setting. Please invite your friends to come join the several hundred people who have taken this courses and earned an Amateur Radio license during the last few years. \nThis is 2 day class. You must attend both days of the class. The class is from 8am to 5pm on Saturday\, October 4th and Saturday\, October 18th .  Testing will take place on October 18th  at 2 pm. \nThe cost is $45 – this includes both classes\, your book\, testing fee and any additional materials. \nThere will be several breaks and 1 hour for lunch. There are fridges at the PSOC for brought lunches\, Uber Eats delivers there and many restaurants close by to choose from. \nYou Must obtain a FCC issued FRN number Before taking the Test. \nWe will explain how to apply during the first class session. \nThe FCC will collect a $35 fee when your License Application is approved.\n\nThe new $35 application fee applies to new\, renewal\, rule waiver\, and modification applications that request a new vanity call sign. The fee will be per application. \nAdministrative updates\, such as a change of name\, mailing or email address\, and modification applications to upgrade an amateur radio licensee’s operator class or to request a sequentially issued call sign\, are exempt from fees. \nYou can review the details of the Fee on the ARRL Website at \nhttps://www.arrl.org/fcc-application-fee
URL:https://hillsboroughares.org/event/amateur-radio-technician-license-class-10/
ATTACH;FMTTYPE=image/jpeg:https://hillsboroughares.org/wp-content/uploads/2021/11/PSOC-Front-NR-1.jpg
END:VEVENT
BEGIN:VEVENT
DTSTART;TZID=America/New_York:20251018T080000
DTEND;TZID=America/New_York:20251018T170000
DTSTAMP:20260419T234731
CREATED:20250723T182412Z
LAST-MODIFIED:20250930T125745Z
UID:17047-1760774400-1760806800@hillsboroughares.org
SUMMARY:Amateur Radio General License Class
DESCRIPTION:Hillsborough County ARES/RACES is proud to sponsor the  Amateur Radio “General” License Course in a traditional classroom setting. Please invite your friends to come join the several hundred people who have taken this courses and earned an Amateur Radio license during the last few years. \nThis is 2 day class. You must attend both days of the class. The class is from 8am to 5pm on Saturday\, October 4th  and Saturday\, October 18th.  Testing will take place on October 18th  at 2 pm. \nThe cost is $45 – this includes both classes\, your book\, testing fee and any additional m9thaterials. \nThere will be several breaks and 1 hour for lunch. There are fridges at the PSOC for brought lunches\, Uber Eats delivers there and many restaurants close by to choose from. \nYou Must obtain a FCC issued FRN number Before taking the Test. \nWe will explain how to apply during the first class session. \nThe FCC will collect a $35 fee when your License Application is approved.\n\nThe new $35 application fee applies to new\, renewal\, rule waiver\, and modification applications that request a new vanity call sign. The fee will be per application. \nAdministrative updates\, such as a change of name\, mailing or email address\, and modification applications to upgrade an amateur radio licensee’s operator class or to request a sequentially issued call sign\, are exempt from fees. \nYou can review the details of the Fee on the ARRL Website at \nhttps://www.arrl.org/fcc-application-fee
URL:https://hillsboroughares.org/event/amateur-radio-general-license-class-10/
LOCATION:Hillsborough County PSOC\, 9450 E Columbus Drive\, Tampa\, FL\, 33619\, United States
ATTACH;FMTTYPE=image/jpeg:https://hillsboroughares.org/wp-content/uploads/2021/11/PSOC-Front-NR-1.jpg
END:VEVENT
BEGIN:VEVENT
DTSTART;TZID=America/New_York:20251023T090000
DTEND;TZID=America/New_York:20251023T120000
DTSTAMP:20260419T234731
CREATED:20250813T160309Z
LAST-MODIFIED:20250905T191739Z
UID:17065-1761210000-1761220800@hillsboroughares.org
SUMMARY:AEOC DRIL
DESCRIPTION:Drill at the Alternate EOC 09:00 – 12:00 \nTest of all ARES/RACES Communications \n 14091 Sydney Road\, Dover\, FL 33527
URL:https://hillsboroughares.org/event/aeoc-drill/
LOCATION:AEOC\, 14091 Sydney Rd\, Dover\, FL\, United States
END:VEVENT
BEGIN:VEVENT
DTSTART;TZID=America/New_York:20251023T193000
DTEND;TZID=America/New_York:20251023T200000
DTSTAMP:20260419T234731
CREATED:20250823T230448Z
LAST-MODIFIED:20250823T230448Z
UID:17095-1761247800-1761249600@hillsboroughares.org
SUMMARY:ARES/RACES Weekly Net
DESCRIPTION:
URL:https://hillsboroughares.org/event/ares-races-weekly-net-108/
ATTACH;FMTTYPE=image/jpeg:https://hillsboroughares.org/wp-content/uploads/2025/06/New-ARES-Net.jpg
END:VEVENT
BEGIN:VEVENT
DTSTART;TZID=America/New_York:20251025T090000
DTEND;TZID=America/New_York:20251025T120000
DTSTAMP:20260419T234731
CREATED:20251008T210405Z
LAST-MODIFIED:20251011T210821Z
UID:17137-1761382800-1761393600@hillsboroughares.org
SUMMARY:EDVantage Class "Amateur Radio 101"
DESCRIPTION:TITLE:\nAmateur Radio 101\nHands-On Training for the Newly Licensed Ham – VHF/UHF\nPREREQUISITES:\nNone – Bring your hand-held radio if you have one\nACHIEVEMENT:\nAt the conclusion of this training\, you can confidently begin making contacts\, building your\noperator experience using the VHF/UHF bands – meeting and productively participating\nwith other like-minded Amateur Radio enthusiasts.\nCOURSE DESCRIPTION:\nThis instructor led training provides you a brief overview of Amateur Radio as a rewarding\nmulti-faceted hobby and its world-wide fraternal organization\, with emphasis placed on\nthe newly licensed “Ham” who desires to begin 2-way radio operations. Important\nknowledge and needed skill points include popular FM operations on the VHF/UHF bands\,\nutilizing hand-held radios as a beginning experience. Base and mobile\, radio-to-radio\nsimplex\, as well as repeater operation\, is covered. Beginner’s operating scenarios and\nsimulation examples not only set proper expectations\, but give you opportunity to actually\npractice typical dialog exchanges and acceptable procedures – building your confidence\,\nexperience and skill. The practical nature of this course introduces you to the concept of\nmutual support from willing mentors (Elmers)\, and helps you become familiar with\nimportant on-air\, internet\, and affiliation resources. Lastly\, you receive an introduction to\npublic service opportunities\, and encouragement to prepare for critical incidents.\nCOURSE LENGTH:\n3 hours typical\, +/- questions\nCOURSE OUTLINE:\n• Amateur Radio – beginner’s overview\n• Call signs and radio etiquette fundamentals\n• Radio communications – getting ready\n• Communications jargon and usage of common short-hand codes\n• Common 2-way exchanges and practical use of repeaters\n• Practice – hands-on role playing\n• Technical support networking\n• Resources – be aware\n• Preparing for a critical incident\nCOST:\nFree \nWe can also help you program your radio after class.
URL:https://hillsboroughares.org/event/edvantage-class-ham-radio-101/
LOCATION:Hillsborough County PSOC\, 9450 E Columbus Drive\, Tampa\, FL\, 33619\, United States
ATTACH;FMTTYPE=image/jpeg:https://hillsboroughares.org/wp-content/uploads/2021/11/PSOC-Front-NR-1.jpg
END:VEVENT
BEGIN:VEVENT
DTSTART;TZID=America/New_York:20251030T193000
DTEND;TZID=America/New_York:20251030T200000
DTSTAMP:20260419T234731
CREATED:20250823T230634Z
LAST-MODIFIED:20250823T230634Z
UID:17097-1761852600-1761854400@hillsboroughares.org
SUMMARY:ARES/RACES Weekly Net
DESCRIPTION:
URL:https://hillsboroughares.org/event/ares-races-weekly-net-109/
ATTACH;FMTTYPE=image/jpeg:https://hillsboroughares.org/wp-content/uploads/2025/06/New-ARES-Net.jpg
END:VEVENT
BEGIN:VEVENT
DTSTART;TZID=America/New_York:20251106T193000
DTEND;TZID=America/New_York:20251106T200000
DTSTAMP:20260419T234731
CREATED:20250823T230833Z
LAST-MODIFIED:20250823T230833Z
UID:17099-1762457400-1762459200@hillsboroughares.org
SUMMARY:ARES/RACES Weekly Net
DESCRIPTION:
URL:https://hillsboroughares.org/event/ares-races-weekly-net-110/
ATTACH;FMTTYPE=image/jpeg:https://hillsboroughares.org/wp-content/uploads/2025/06/New-ARES-Net.jpg
END:VEVENT
BEGIN:VEVENT
DTSTART;TZID=America/New_York:20251108T090000
DTEND;TZID=America/New_York:20251108T120000
DTSTAMP:20260419T234731
CREATED:20250213T174348Z
LAST-MODIFIED:20251010T173509Z
UID:16885-1762592400-1762603200@hillsboroughares.org
SUMMARY:Bi Monthly Meeting & Cross Band Repeater Training
DESCRIPTION:Cross Band Repeater for Shelters Training will be held after the meeting.  The training will last about 90 Minutes so you will be out by Noon.
URL:https://hillsboroughares.org/event/bi-monthly-meeting/
LOCATION:Hillsborough County PSOC\, 9450 E Columbus Drive\, Tampa\, FL\, 33619\, United States
ATTACH;FMTTYPE=image/jpeg:https://hillsboroughares.org/wp-content/uploads/2021/11/PSOC-Front-NR-1.jpg
END:VEVENT
BEGIN:VEVENT
DTSTART;TZID=America/New_York:20251113T193000
DTEND;TZID=America/New_York:20251113T200000
DTSTAMP:20260419T234731
CREATED:20250823T231018Z
LAST-MODIFIED:20250823T231018Z
UID:17101-1763062200-1763064000@hillsboroughares.org
SUMMARY:ARES/RACES Weekly Net
DESCRIPTION:
URL:https://hillsboroughares.org/event/ares-races-weekly-net-111/
ATTACH;FMTTYPE=image/jpeg:https://hillsboroughares.org/wp-content/uploads/2025/06/New-ARES-Net.jpg
END:VEVENT
BEGIN:VEVENT
DTSTART;TZID=America/New_York:20251115T090000
DTEND;TZID=America/New_York:20251115T123000
DTSTAMP:20260419T234731
CREATED:20251008T150600Z
LAST-MODIFIED:20251114T212658Z
UID:17127-1763197200-1763209800@hillsboroughares.org
SUMMARY:CANCELED  EDVantage Class "Antenna Tuning & Build a 440 Tape Measure Antenna" CANCELED
DESCRIPTION:CANCELED \nCome join us to build a tape measure antenna for 440 MHz.  Bring your old tape measure and and go home with a working antenna.  The cost for the other materials is $10.  Please register so we can be sure to have enough supplies for everyone.  After the build we will have a training on mobile antenna tuning.  
URL:https://hillsboroughares.org/event/edvantage-class-antenna-tuning-and-build-a-440-tape-measure-antenna/
LOCATION:Hillsborough County PSOC\, 9450 E Columbus Drive\, Tampa\, FL\, 33619\, United States
CATEGORIES:Education,Training
ATTACH;FMTTYPE=image/jpeg:https://hillsboroughares.org/wp-content/uploads/2021/11/PSOC-Front-NR-1.jpg
END:VEVENT
BEGIN:VEVENT
DTSTART;TZID=America/New_York:20251119T180000
DTEND;TZID=America/New_York:20251119T190000
DTSTAMP:20260419T234731
CREATED:20250823T233226Z
LAST-MODIFIED:20250823T233226Z
UID:17115-1763575200-1763578800@hillsboroughares.org
SUMMARY:Monthly Planning Meeting
DESCRIPTION:AEC’s Only
URL:https://hillsboroughares.org/event/monthly-planning-meeting-12/
LOCATION:Hillsborough County PSOC\, 9450 E Columbus Drive\, Tampa\, FL\, 33619\, United States
ATTACH;FMTTYPE=image/jpeg:https://hillsboroughares.org/wp-content/uploads/2021/11/PSOC-Front-NR-1.jpg
END:VEVENT
BEGIN:VEVENT
DTSTART;TZID=America/New_York:20251120T193000
DTEND;TZID=America/New_York:20251120T200000
DTSTAMP:20260419T234731
CREATED:20250823T231205Z
LAST-MODIFIED:20250823T231205Z
UID:17103-1763667000-1763668800@hillsboroughares.org
SUMMARY:ARES/RACES Weekly Net
DESCRIPTION:
URL:https://hillsboroughares.org/event/ares-races-weekly-net-112/
ATTACH;FMTTYPE=image/jpeg:https://hillsboroughares.org/wp-content/uploads/2025/06/New-ARES-Net.jpg
END:VEVENT
BEGIN:VEVENT
DTSTART;VALUE=DATE:20251127
DTEND;VALUE=DATE:20251128
DTSTAMP:20260419T234731
CREATED:20251008T144813Z
LAST-MODIFIED:20251008T144813Z
UID:17125-1764201600-1764287999@hillsboroughares.org
SUMMARY:Thanksgiving Day 2025
DESCRIPTION:
URL:https://hillsboroughares.org/event/thanksgiving-day-2025/
END:VEVENT
BEGIN:VEVENT
DTSTART;TZID=America/New_York:20251204T193000
DTEND;TZID=America/New_York:20251204T200000
DTSTAMP:20260419T234731
CREATED:20250823T231406Z
LAST-MODIFIED:20250823T231406Z
UID:17105-1764876600-1764878400@hillsboroughares.org
SUMMARY:ARES/RACES Weekly Net
DESCRIPTION:
URL:https://hillsboroughares.org/event/ares-races-weekly-net-113/
ATTACH;FMTTYPE=image/jpeg:https://hillsboroughares.org/wp-content/uploads/2025/06/New-ARES-Net.jpg
END:VEVENT
END:VCALENDAR