BEGIN:VCALENDAR
VERSION:2.0
PRODID:-//Hillsborough County ARES/RACES Inc. - ECPv6.15.20//NONSGML v1.0//EN
CALSCALE:GREGORIAN
METHOD:PUBLISH
X-WR-CALNAME:Hillsborough County ARES/RACES Inc.
X-ORIGINAL-URL:https://hillsboroughares.org
X-WR-CALDESC:Events for Hillsborough County ARES/RACES Inc.
REFRESH-INTERVAL;VALUE=DURATION:PT1H
X-Robots-Tag:noindex
X-PUBLISHED-TTL:PT1H
BEGIN:VTIMEZONE
TZID:America/New_York
BEGIN:DAYLIGHT
TZOFFSETFROM:-0500
TZOFFSETTO:-0400
TZNAME:EDT
DTSTART:20230312T070000
END:DAYLIGHT
BEGIN:STANDARD
TZOFFSETFROM:-0400
TZOFFSETTO:-0500
TZNAME:EST
DTSTART:20231105T060000
END:STANDARD
BEGIN:DAYLIGHT
TZOFFSETFROM:-0500
TZOFFSETTO:-0400
TZNAME:EDT
DTSTART:20240310T070000
END:DAYLIGHT
BEGIN:STANDARD
TZOFFSETFROM:-0400
TZOFFSETTO:-0500
TZNAME:EST
DTSTART:20241103T060000
END:STANDARD
BEGIN:DAYLIGHT
TZOFFSETFROM:-0500
TZOFFSETTO:-0400
TZNAME:EDT
DTSTART:20250309T070000
END:DAYLIGHT
BEGIN:STANDARD
TZOFFSETFROM:-0400
TZOFFSETTO:-0500
TZNAME:EST
DTSTART:20251102T060000
END:STANDARD
END:VTIMEZONE
BEGIN:VEVENT
DTSTART;TZID=America/New_York:20240727T080000
DTEND;TZID=America/New_York:20240727T170000
DTSTAMP:20260421T125937
CREATED:20240412T202908Z
LAST-MODIFIED:20240605T213758Z
UID:16511-1722067200-1722099600@hillsboroughares.org
SUMMARY:Amateur Radio License Class "General"
DESCRIPTION:Hillsborough County ARES/RACES is proud to sponsor the  Amateur Radio “General” License Course in a traditional classroom setting. Please invite your friends to come join the several hundred people who have taken this courses and earned an Amateur Radio license during the last few years. \nThis is 2 day class. You must attend both days of the class. The class is from 8am to 5pm on Saturday\, July 27th and Saturday\, August 10th.  Testing will take place on August 10th at 3 pm. \nThe cost is $45 – this includes both classes\, your book\, testing fee and any additional materials. \nThere will be several breaks and 1 hour for lunch. There are fridges at the PSOC for brought lunches\, Uber Eats delivers there and many restaurants close by to choose from. \nYou Must obtain a FCC issued FRN number Before taking the Test. \nWe will explain how to apply during the first class session. \nThe FCC will collect a $35 fee when your License Application is approved.\n\nThe new $35 application fee applies to new\, renewal\, rule waiver\, and modification applications that request a new vanity call sign. The fee will be per application. \nAdministrative updates\, such as a change of name\, mailing or email address\, and modification applications to upgrade an amateur radio licensee’s operator class or to request a sequentially issued call sign\, are exempt from fees. \nYou can review the details of the Fee on the ARRL Website at \nhttps://www.arrl.org/fcc-application-fee
URL:https://hillsboroughares.org/event/amateur-radio-license-class-general-3/
LOCATION:Hillsborough County PSOC\, 9450 E Columbus Drive\, Tampa\, FL\, 33619\, United States
ATTACH;FMTTYPE=image/jpeg:https://hillsboroughares.org/wp-content/uploads/2021/11/PSOC-Front-NR-1.jpg
END:VEVENT
BEGIN:VEVENT
DTSTART;TZID=America/New_York:20240727T080000
DTEND;TZID=America/New_York:20240727T170000
DTSTAMP:20260421T125937
CREATED:20240412T202115Z
LAST-MODIFIED:20240605T213646Z
UID:16507-1722067200-1722099600@hillsboroughares.org
SUMMARY:Amateur Radio License Class "Technician"
DESCRIPTION:Hillsborough County ARES/RACES is proud to sponsor the  Amateur Radio “Technician” License Course in a traditional classroom setting. Please invite your friends to come join the several hundred people who have taken this courses and earned an Amateur Radio license during the last few years. \nThis is 2 day class. You must attend both days of the class. The class is from 8am to 5pm on Saturday\, July 27th and Saturday\, August 10th.  Testing will take place on August 10th at 3 pm. \nThe cost is $45 – this includes both classes\, your book\, testing fee and any additional materials. \nThere will be several breaks and 1 hour for lunch. There are fridges at the PSOC for brought lunches\, Uber Eats delivers there and many restaurants close by to choose from. \nYou Must obtain a FCC issued FRN number Before taking the Test. \nWe will explain how to apply during the first class session. \nThe FCC will collect a $35 fee when your License Application is approved.\n\nThe new $35 application fee applies to new\, renewal\, rule waiver\, and modification applications that request a new vanity call sign. The fee will be per application. \nAdministrative updates\, such as a change of name\, mailing or email address\, and modification applications to upgrade an amateur radio licensee’s operator class or to request a sequentially issued call sign\, are exempt from fees. \nYou can review the details of the Fee on the ARRL Website at \nhttps://www.arrl.org/fcc-application-fee
URL:https://hillsboroughares.org/event/amateur-radio-license-class-technician-3/
LOCATION:Hillsborough County PSOC\, 9450 E Columbus Drive\, Tampa\, FL\, 33619\, United States
CATEGORIES:Training
ATTACH;FMTTYPE=image/jpeg:https://hillsboroughares.org/wp-content/uploads/2021/11/PSOC-Front-NR-1.jpg
END:VEVENT
BEGIN:VEVENT
DTSTART;TZID=America/New_York:20240725T193000
DTEND;TZID=America/New_York:20240725T200000
DTSTAMP:20260421T125937
CREATED:20240412T203934Z
LAST-MODIFIED:20240412T203934Z
UID:16521-1721935800-1721937600@hillsboroughares.org
SUMMARY:ARES/RACES Weekly Net
DESCRIPTION:
URL:https://hillsboroughares.org/event/ares-races-weekly-net-51/
LOCATION:FL
ATTACH;FMTTYPE=image/png:https://hillsboroughares.org/wp-content/uploads/2022/07/ARES-RACES-Net-N1CDO.png
END:VEVENT
BEGIN:VEVENT
DTSTART;TZID=America/New_York:20240720T090000
DTEND;TZID=America/New_York:20240720T120000
DTSTAMP:20260421T125937
CREATED:20231213T160406Z
LAST-MODIFIED:20240423T201232Z
UID:16350-1721466000-1721476800@hillsboroughares.org
SUMMARY:ARES/RACES Quarterly Meeting
DESCRIPTION:This is a required Quarterly Meeting.  The Meeting will start at 9am and will be followed by a special training event at 10:30.
URL:https://hillsboroughares.org/event/ares-races-quarterly-meeting-2/
LOCATION:Hillsborough County PSOC\, 9450 E Columbus Drive\, Tampa\, FL\, 33619\, United States
ATTACH;FMTTYPE=image/jpeg:https://hillsboroughares.org/wp-content/uploads/2021/11/PSOC-Front-NR-1.jpg
END:VEVENT
BEGIN:VEVENT
DTSTART;TZID=America/New_York:20240718T193000
DTEND;TZID=America/New_York:20240718T200000
DTSTAMP:20260421T125937
CREATED:20240412T203819Z
LAST-MODIFIED:20240412T203819Z
UID:16519-1721331000-1721332800@hillsboroughares.org
SUMMARY:ARES/RACES Weekly Net
DESCRIPTION:
URL:https://hillsboroughares.org/event/ares-races-weekly-net-50/
LOCATION:FL
ATTACH;FMTTYPE=image/png:https://hillsboroughares.org/wp-content/uploads/2022/07/ARES-RACES-Net-N1CDO.png
END:VEVENT
BEGIN:VEVENT
DTSTART;TZID=America/New_York:20240717T180000
DTEND;TZID=America/New_York:20240717T193000
DTSTAMP:20260421T125937
CREATED:20240412T204209Z
LAST-MODIFIED:20240412T204209Z
UID:16523-1721239200-1721244600@hillsboroughares.org
SUMMARY:Monthly Planning Meeting
DESCRIPTION:AEC’s Only
URL:https://hillsboroughares.org/event/monthly-planning-meeting-2/
LOCATION:Hillsborough County PSOC\, 9450 E Columbus Drive\, Tampa\, FL\, 33619\, United States
ATTACH;FMTTYPE=image/jpeg:https://hillsboroughares.org/wp-content/uploads/2021/11/PSOC-Front-NR-1.jpg
END:VEVENT
BEGIN:VEVENT
DTSTART;TZID=America/New_York:20240711T193000
DTEND;TZID=America/New_York:20240711T200000
DTSTAMP:20260421T125937
CREATED:20240412T203629Z
LAST-MODIFIED:20240412T203629Z
UID:16517-1720726200-1720728000@hillsboroughares.org
SUMMARY:ARES/RACES Weekly Net
DESCRIPTION:
URL:https://hillsboroughares.org/event/ares-races-weekly-net-49/
LOCATION:FL
ATTACH;FMTTYPE=image/png:https://hillsboroughares.org/wp-content/uploads/2022/07/ARES-RACES-Net-N1CDO.png
END:VEVENT
BEGIN:VEVENT
DTSTART;TZID=America/New_York:20240706T090000
DTEND;TZID=America/New_York:20240706T110000
DTSTAMP:20260421T125937
CREATED:20240423T184927Z
LAST-MODIFIED:20240621T162719Z
UID:16531-1720256400-1720263600@hillsboroughares.org
SUMMARY:EDVantage Class "Ham Radio on Internet"
DESCRIPTION:
URL:https://hillsboroughares.org/event/edvantage-class-ham-radio-on-internet/
LOCATION:Hillsborough County PSOC\, 9450 E Columbus Drive\, Tampa\, FL\, 33619\, United States
ATTACH;FMTTYPE=image/jpeg:https://hillsboroughares.org/wp-content/uploads/2021/11/PSOC-Front-NR-1.jpg
END:VEVENT
BEGIN:VEVENT
DTSTART;TZID=America/New_York:20240704T193000
DTEND;TZID=America/New_York:20240704T200000
DTSTAMP:20260421T125937
CREATED:20240412T203455Z
LAST-MODIFIED:20240412T203455Z
UID:16515-1720121400-1720123200@hillsboroughares.org
SUMMARY:ARES/RACES Weekly Net
DESCRIPTION:
URL:https://hillsboroughares.org/event/ares-races-weekly-net-48/
LOCATION:FL
ATTACH;FMTTYPE=image/png:https://hillsboroughares.org/wp-content/uploads/2022/07/ARES-RACES-Net-N1CDO.png
END:VEVENT
BEGIN:VEVENT
DTSTART;TZID=America/New_York:20240627T193000
DTEND;TZID=America/New_York:20240627T200000
DTSTAMP:20260421T125937
CREATED:20240410T140126Z
LAST-MODIFIED:20240410T140126Z
UID:16505-1719516600-1719518400@hillsboroughares.org
SUMMARY:ARES/RACES Weekly Net
DESCRIPTION:
URL:https://hillsboroughares.org/event/ares-races-weekly-net-47/
LOCATION:FL
ATTACH;FMTTYPE=image/png:https://hillsboroughares.org/wp-content/uploads/2022/07/ARES-RACES-Net-N1CDO.png
END:VEVENT
BEGIN:VEVENT
DTSTART;VALUE=DATE:20240622
DTEND;VALUE=DATE:20240624
DTSTAMP:20260421T125937
CREATED:20240423T184506Z
LAST-MODIFIED:20240423T184506Z
UID:16529-1719014400-1719187199@hillsboroughares.org
SUMMARY:Field Day 2024
DESCRIPTION:
URL:https://hillsboroughares.org/event/field-day-2024/
LOCATION:Hillsborough County PSOC\, 9450 E Columbus Drive\, Tampa\, FL\, 33619\, United States
CATEGORIES:Public Outreach
END:VEVENT
BEGIN:VEVENT
DTSTART;TZID=America/New_York:20240620T193000
DTEND;TZID=America/New_York:20240620T200000
DTSTAMP:20260421T125937
CREATED:20240410T135957Z
LAST-MODIFIED:20240410T135957Z
UID:16503-1718911800-1718913600@hillsboroughares.org
SUMMARY:ARES/RACES Weekly Net
DESCRIPTION:
URL:https://hillsboroughares.org/event/ares-races-weekly-net-46/
LOCATION:FL
ATTACH;FMTTYPE=image/png:https://hillsboroughares.org/wp-content/uploads/2022/07/ARES-RACES-Net-N1CDO.png
END:VEVENT
BEGIN:VEVENT
DTSTART;TZID=America/New_York:20240619T180000
DTEND;TZID=America/New_York:20240619T193000
DTSTAMP:20260421T125937
CREATED:20240410T135518Z
LAST-MODIFIED:20240410T135518Z
UID:16499-1718820000-1718825400@hillsboroughares.org
SUMMARY:Planning Committee Meeting
DESCRIPTION:AEC’s Only
URL:https://hillsboroughares.org/event/planning-committee-meeting-7/
LOCATION:Hillsborough County PSOC\, 9450 E Columbus Drive\, Tampa\, FL\, 33619\, United States
ATTACH;FMTTYPE=image/jpeg:https://hillsboroughares.org/wp-content/uploads/2021/11/PSOC-Front-NR-1.jpg
END:VEVENT
BEGIN:VEVENT
DTSTART;TZID=America/New_York:20240615T090000
DTEND;TZID=America/New_York:20240615T113000
DTSTAMP:20260421T125937
CREATED:20240410T130247Z
LAST-MODIFIED:20240410T130247Z
UID:16483-1718442000-1718451000@hillsboroughares.org
SUMMARY:EDVantage Class "Shelter Radio Operator Winlink"
DESCRIPTION:Training on use of ICS Forms and tracking messages.
URL:https://hillsboroughares.org/event/edvantage-class-shelter-radio-operator-winlink/
LOCATION:Hillsborough County PSOC\, 9450 E Columbus Drive\, Tampa\, FL\, 33619\, United States
ATTACH;FMTTYPE=image/jpeg:https://hillsboroughares.org/wp-content/uploads/2021/11/PSOC-Front-NR-1.jpg
END:VEVENT
BEGIN:VEVENT
DTSTART;TZID=America/New_York:20240613T193000
DTEND;TZID=America/New_York:20240613T200000
DTSTAMP:20260421T125937
CREATED:20240410T135816Z
LAST-MODIFIED:20240410T135816Z
UID:16501-1718307000-1718308800@hillsboroughares.org
SUMMARY:ARES/RACES Weekly Net
DESCRIPTION:
URL:https://hillsboroughares.org/event/ares-races-weekly-net-45/
LOCATION:FL
ATTACH;FMTTYPE=image/png:https://hillsboroughares.org/wp-content/uploads/2022/07/ARES-RACES-Net-N1CDO.png
END:VEVENT
BEGIN:VEVENT
DTSTART;TZID=America/New_York:20240606T193000
DTEND;TZID=America/New_York:20240606T200000
DTSTAMP:20260421T125937
CREATED:20240410T134716Z
LAST-MODIFIED:20240410T134716Z
UID:16495-1717702200-1717704000@hillsboroughares.org
SUMMARY:ARES/RACES Weekly Net
DESCRIPTION:
URL:https://hillsboroughares.org/event/ares-races-weekly-net-44/
LOCATION:FL
ATTACH;FMTTYPE=image/png:https://hillsboroughares.org/wp-content/uploads/2022/07/ARES-RACES-Net-N1CDO.png
END:VEVENT
BEGIN:VEVENT
DTSTART;TZID=America/New_York:20240530T193000
DTEND;TZID=America/New_York:20240530T200000
DTSTAMP:20260421T125937
CREATED:20240410T133831Z
LAST-MODIFIED:20240410T133831Z
UID:16493-1717097400-1717099200@hillsboroughares.org
SUMMARY:ARES/RACES Weekly Net
DESCRIPTION:
URL:https://hillsboroughares.org/event/ares-races-weekly-net-43/
LOCATION:FL
ATTACH;FMTTYPE=image/png:https://hillsboroughares.org/wp-content/uploads/2022/07/ARES-RACES-Net-N1CDO.png
END:VEVENT
BEGIN:VEVENT
DTSTART;TZID=America/New_York:20240525T070000
DTEND;TZID=America/New_York:20240525T110000
DTSTAMP:20260421T125937
CREATED:20240522T154813Z
LAST-MODIFIED:20240522T154813Z
UID:16557-1716620400-1716634800@hillsboroughares.org
SUMMARY:2024 WORMFEST
DESCRIPTION:
URL:https://hillsboroughares.org/event/2024-wormfest/
LOCATION:FL
END:VEVENT
BEGIN:VEVENT
DTSTART;TZID=America/New_York:20240523T193000
DTEND;TZID=America/New_York:20240523T200000
DTSTAMP:20260421T125937
CREATED:20240410T133646Z
LAST-MODIFIED:20240410T133646Z
UID:16491-1716492600-1716494400@hillsboroughares.org
SUMMARY:ARES/RACES Weekly Net
DESCRIPTION:
URL:https://hillsboroughares.org/event/ares-races-weekly-net-42/
LOCATION:FL
ATTACH;FMTTYPE=image/png:https://hillsboroughares.org/wp-content/uploads/2022/07/ARES-RACES-Net-N1CDO.png
END:VEVENT
BEGIN:VEVENT
DTSTART;TZID=America/New_York:20240516T193000
DTEND;TZID=America/New_York:20240516T200000
DTSTAMP:20260421T125937
CREATED:20240410T133425Z
LAST-MODIFIED:20240410T133425Z
UID:16489-1715887800-1715889600@hillsboroughares.org
SUMMARY:ARES/RACES Weekly Net
DESCRIPTION:
URL:https://hillsboroughares.org/event/ares-races-weekly-net-41/
LOCATION:FL
ATTACH;FMTTYPE=image/png:https://hillsboroughares.org/wp-content/uploads/2022/07/ARES-RACES-Net-N1CDO.png
END:VEVENT
BEGIN:VEVENT
DTSTART;TZID=America/New_York:20240515T180000
DTEND;TZID=America/New_York:20240515T193000
DTSTAMP:20260421T125937
CREATED:20240410T135205Z
LAST-MODIFIED:20240410T135205Z
UID:16497-1715796000-1715801400@hillsboroughares.org
SUMMARY:Planning Committee Meeting
DESCRIPTION:AEC’s Only
URL:https://hillsboroughares.org/event/planning-committee-meeting-6/
LOCATION:Hillsborough County PSOC\, 9450 E Columbus Drive\, Tampa\, FL\, 33619\, United States
ATTACH;FMTTYPE=image/jpeg:https://hillsboroughares.org/wp-content/uploads/2021/11/PSOC-Front-NR-1.jpg
END:VEVENT
BEGIN:VEVENT
DTSTART;TZID=America/New_York:20240511T090000
DTEND;TZID=America/New_York:20240511T120000
DTSTAMP:20260421T125937
CREATED:20240402T202116Z
LAST-MODIFIED:20240402T202116Z
UID:16476-1715418000-1715428800@hillsboroughares.org
SUMMARY:EDVantage Class "Radio Fox Hunt"
DESCRIPTION:We will start with a Power Point Presentation at the PSOC and then go on an actual Radio Fox Hunt.  We will begin at 9am and end about noon.
URL:https://hillsboroughares.org/event/edvantage-class-radio-fox-hunt-2/
LOCATION:Hillsborough County PSOC\, 9450 E Columbus Drive\, Tampa\, FL\, 33619\, United States
ATTACH;FMTTYPE=image/jpeg:https://hillsboroughares.org/wp-content/uploads/2021/11/PSOC-Front-NR-1.jpg
END:VEVENT
BEGIN:VEVENT
DTSTART;TZID=America/New_York:20240509T193000
DTEND;TZID=America/New_York:20240509T200000
DTSTAMP:20260421T125937
CREATED:20240410T133209Z
LAST-MODIFIED:20240410T133209Z
UID:16487-1715283000-1715284800@hillsboroughares.org
SUMMARY:ARES/RACES Weekly Net
DESCRIPTION:
URL:https://hillsboroughares.org/event/ares-races-weekly-net-40/
LOCATION:FL
ATTACH;FMTTYPE=image/png:https://hillsboroughares.org/wp-content/uploads/2022/07/ARES-RACES-Net-N1CDO.png
END:VEVENT
BEGIN:VEVENT
DTSTART;TZID=America/New_York:20240504T080000
DTEND;TZID=America/New_York:20240504T170000
DTSTAMP:20260421T125937
CREATED:20240228T151124Z
LAST-MODIFIED:20240228T151124Z
UID:16451-1714809600-1714842000@hillsboroughares.org
SUMMARY:Amateur Radio License Class "General"
DESCRIPTION:Hillsborough County ARES/RACES is proud to sponsor the  Amateur Radio “General” License Course in a traditional classroom setting. Please invite your friends to come join the several hundred people who have taken this courses and earned an Amateur Radio license during the last few years. \nThis is 2 day class. You must attend both days of the class. The class is from 8am to 5pm on Saturday\, April 20th and Saturday\, May 4th.  Testing will take place at 2pm on May 4th at 3 pm. \nThe cost is $45 – this includes both classes\, your book\, testing fee and any additional materials. \nThere will be several breaks and 1 hour for lunch. There are fridges at the PSOC for brought lunches\, Uber Eats delivers there and many restaurants close by to choose from. \nYou Must obtain a FCC issued FRN number Before taking the Test. \nWe will explain how to apply during the first class session. \nThe FCC will collect a $35 fee when your License Application is approved.\n\nThe new $35 application fee applies to new\, renewal\, rule waiver\, and modification applications that request a new vanity call sign. The fee will be per application. \nAdministrative updates\, such as a change of name\, mailing or email address\, and modification applications to upgrade an amateur radio licensee’s operator class or to request a sequentially issued call sign\, are exempt from fees. \nYou can review the details of the Fee on the ARRL Website at \nhttps://www.arrl.org/fcc-application-fee
URL:https://hillsboroughares.org/event/amateur-radio-license-class-general-2/
LOCATION:Hillsborough County PSOC\, 9450 E Columbus Drive\, Tampa\, FL\, 33619\, United States
CATEGORIES:Education,Training
ATTACH;FMTTYPE=image/jpeg:https://hillsboroughares.org/wp-content/uploads/2021/11/PSOC-Front-NR-1.jpg
END:VEVENT
BEGIN:VEVENT
DTSTART;TZID=America/New_York:20240504T080000
DTEND;TZID=America/New_York:20240504T170000
DTSTAMP:20260421T125937
CREATED:20240228T150441Z
LAST-MODIFIED:20240228T150441Z
UID:16447-1714809600-1714842000@hillsboroughares.org
SUMMARY:Amateur Radio License Class  "Technician"
DESCRIPTION:Hillsborough County ARES/RACES is proud to sponsor the  Amateur Radio “Technician” License Course in a traditional classroom setting. Please invite your friends to come join the several hundred people who have taken this courses and earned an Amateur Radio license during the last few years. \nThis is 2 day class. You must attend both days of the class. The class is from 8am to 5pm on Saturday\, April 20th and Saturday\, May 4th.  Testing will take place at 2pm on May 4th at 3 pm. \nThe cost is $45 – this includes both classes\, your book\, testing fee and any additional materials. \nThere will be several breaks and 1 hour for lunch. There are fridges at the PSOC for brought lunches\, Uber Eats delivers there and many restaurants close by to choose from. \nYou Must obtain a FCC issued FRN number Before taking the Test. \nWe will explain how to apply during the first class session. \nThe FCC will collect a $35 fee when your License Application is approved.\n\nThe new $35 application fee applies to new\, renewal\, rule waiver\, and modification applications that request a new vanity call sign. The fee will be per application. \nAdministrative updates\, such as a change of name\, mailing or email address\, and modification applications to upgrade an amateur radio licensee’s operator class or to request a sequentially issued call sign\, are exempt from fees. \nYou can review the details of the Fee on the ARRL Website at \nhttps://www.arrl.org/fcc-application-fee
URL:https://hillsboroughares.org/event/amateur-radio-license-class-technician-2/
LOCATION:Hillsborough County PSOC\, 9450 E Columbus Drive\, Tampa\, FL\, 33619\, United States
CATEGORIES:Education,Training
ATTACH;FMTTYPE=image/jpeg:https://hillsboroughares.org/wp-content/uploads/2021/11/PSOC-Front-NR-1.jpg
END:VEVENT
BEGIN:VEVENT
DTSTART;TZID=America/New_York:20240502T193000
DTEND;TZID=America/New_York:20240502T200000
DTSTAMP:20260421T125937
CREATED:20240410T132612Z
LAST-MODIFIED:20240410T132612Z
UID:16485-1714678200-1714680000@hillsboroughares.org
SUMMARY:ARES/RACES Weekly Net
DESCRIPTION:
URL:https://hillsboroughares.org/event/ares-races-weekly-net-39/
LOCATION:FL
ATTACH;FMTTYPE=image/png:https://hillsboroughares.org/wp-content/uploads/2022/07/ARES-RACES-Net-N1CDO.png
END:VEVENT
BEGIN:VEVENT
DTSTART;TZID=America/New_York:20240427T090000
DTEND;TZID=America/New_York:20240427T120000
DTSTAMP:20260421T125937
CREATED:20231213T155132Z
LAST-MODIFIED:20240131T220820Z
UID:16348-1714208400-1714219200@hillsboroughares.org
SUMMARY:ARES/RACES Quarterly Meeting
DESCRIPTION:This is a required Quarterly Meeting.  The Meeting will start at 9am and will be followed by a special training event at 10:30.
URL:https://hillsboroughares.org/event/ares-races-quarterly-meeting/
LOCATION:Hillsborough County PSOC\, 9450 E Columbus Drive\, Tampa\, FL\, 33619\, United States
ATTACH;FMTTYPE=image/jpeg:https://hillsboroughares.org/wp-content/uploads/2021/11/PSOC-Front-NR-1.jpg
END:VEVENT
BEGIN:VEVENT
DTSTART;TZID=America/New_York:20240425T193000
DTEND;TZID=America/New_York:20240425T200000
DTSTAMP:20260421T125937
CREATED:20240131T223144Z
LAST-MODIFIED:20240131T223144Z
UID:16427-1714073400-1714075200@hillsboroughares.org
SUMMARY:ARES/RACES Weekly Net
DESCRIPTION:
URL:https://hillsboroughares.org/event/ares-races-weekly-net-38/
LOCATION:FL
ATTACH;FMTTYPE=image/png:https://hillsboroughares.org/wp-content/uploads/2022/07/ARES-RACES-Net-N1CDO.png
END:VEVENT
BEGIN:VEVENT
DTSTART;TZID=America/New_York:20240425T080000
DTEND;TZID=America/New_York:20240425T120000
DTSTAMP:20260421T125937
CREATED:20240417T230353Z
LAST-MODIFIED:20240417T230353Z
UID:16526-1714032000-1714046400@hillsboroughares.org
SUMMARY:Hillsborough Media Day
DESCRIPTION:
URL:https://hillsboroughares.org/event/hillsborough-media-day/
LOCATION:Hillsborough County PSOC\, 9450 E Columbus Drive\, Tampa\, FL\, 33619\, United States
ATTACH;FMTTYPE=image/jpeg:https://hillsboroughares.org/wp-content/uploads/2021/11/PSOC-Front-NR-1.jpg
END:VEVENT
BEGIN:VEVENT
DTSTART;TZID=America/New_York:20240420T080000
DTEND;TZID=America/New_York:20240420T170000
DTSTAMP:20260421T125937
CREATED:20240228T150819Z
LAST-MODIFIED:20240228T150819Z
UID:16449-1713600000-1713632400@hillsboroughares.org
SUMMARY:Amateur Radio License Class "General"
DESCRIPTION:Hillsborough County ARES/RACES is proud to sponsor the  Amateur Radio “General” License Course in a traditional classroom setting. Please invite your friends to come join the several hundred people who have taken this courses and earned an Amateur Radio license during the last few years. \nThis is 2 day class. You must attend both days of the class. The class is from 8am to 5pm on Saturday\, April 20th and Saturday\, May 4th.  Testing will take place at 2pm on May 4th at 3 pm. \nThe cost is $45 – this includes both classes\, your book\, testing fee and any additional materials. \nThere will be several breaks and 1 hour for lunch. There are fridges at the PSOC for brought lunches\, Uber Eats delivers there and many restaurants close by to choose from. \nYou Must obtain a FCC issued FRN number Before taking the Test. \nWe will explain how to apply during the first class session. \nThe FCC will collect a $35 fee when your License Application is approved.\n\nThe new $35 application fee applies to new\, renewal\, rule waiver\, and modification applications that request a new vanity call sign. The fee will be per application. \nAdministrative updates\, such as a change of name\, mailing or email address\, and modification applications to upgrade an amateur radio licensee’s operator class or to request a sequentially issued call sign\, are exempt from fees. \nYou can review the details of the Fee on the ARRL Website at \nhttps://www.arrl.org/fcc-application-fee
URL:https://hillsboroughares.org/event/amateur-radio-license-class-general/
LOCATION:Hillsborough County PSOC\, 9450 E Columbus Drive\, Tampa\, FL\, 33619\, United States
CATEGORIES:Education,Training
ATTACH;FMTTYPE=image/jpeg:https://hillsboroughares.org/wp-content/uploads/2021/11/PSOC-Front-NR-1.jpg
END:VEVENT
END:VCALENDAR