BEGIN:VCALENDAR
VERSION:2.0
PRODID:-//Hillsborough County ARES/RACES Inc. - ECPv6.15.20//NONSGML v1.0//EN
CALSCALE:GREGORIAN
METHOD:PUBLISH
X-WR-CALNAME:Hillsborough County ARES/RACES Inc.
X-ORIGINAL-URL:https://hillsboroughares.org
X-WR-CALDESC:Events for Hillsborough County ARES/RACES Inc.
REFRESH-INTERVAL;VALUE=DURATION:PT1H
X-Robots-Tag:noindex
X-PUBLISHED-TTL:PT1H
BEGIN:VTIMEZONE
TZID:America/New_York
BEGIN:DAYLIGHT
TZOFFSETFROM:-0500
TZOFFSETTO:-0400
TZNAME:EDT
DTSTART:20230312T070000
END:DAYLIGHT
BEGIN:STANDARD
TZOFFSETFROM:-0400
TZOFFSETTO:-0500
TZNAME:EST
DTSTART:20231105T060000
END:STANDARD
BEGIN:DAYLIGHT
TZOFFSETFROM:-0500
TZOFFSETTO:-0400
TZNAME:EDT
DTSTART:20240310T070000
END:DAYLIGHT
BEGIN:STANDARD
TZOFFSETFROM:-0400
TZOFFSETTO:-0500
TZNAME:EST
DTSTART:20241103T060000
END:STANDARD
BEGIN:DAYLIGHT
TZOFFSETFROM:-0500
TZOFFSETTO:-0400
TZNAME:EDT
DTSTART:20250309T070000
END:DAYLIGHT
BEGIN:STANDARD
TZOFFSETFROM:-0400
TZOFFSETTO:-0500
TZNAME:EST
DTSTART:20251102T060000
END:STANDARD
END:VTIMEZONE
BEGIN:VEVENT
DTSTART;TZID=America/New_York:20240516T193000
DTEND;TZID=America/New_York:20240516T200000
DTSTAMP:20260423T062719
CREATED:20240410T133425Z
LAST-MODIFIED:20240410T133425Z
UID:16489-1715887800-1715889600@hillsboroughares.org
SUMMARY:ARES/RACES Weekly Net
DESCRIPTION:
URL:https://hillsboroughares.org/event/ares-races-weekly-net-41/
ATTACH;FMTTYPE=image/png:https://hillsboroughares.org/wp-content/uploads/2022/07/ARES-RACES-Net-N1CDO.png
END:VEVENT
BEGIN:VEVENT
DTSTART;TZID=America/New_York:20240515T180000
DTEND;TZID=America/New_York:20240515T193000
DTSTAMP:20260423T062719
CREATED:20240410T135205Z
LAST-MODIFIED:20240410T135205Z
UID:16497-1715796000-1715801400@hillsboroughares.org
SUMMARY:Planning Committee Meeting
DESCRIPTION:AEC’s Only
URL:https://hillsboroughares.org/event/planning-committee-meeting-6/
LOCATION:Hillsborough County PSOC\, 9450 E Columbus Drive\, Tampa\, FL\, 33619\, United States
ATTACH;FMTTYPE=image/jpeg:https://hillsboroughares.org/wp-content/uploads/2021/11/PSOC-Front-NR-1.jpg
END:VEVENT
BEGIN:VEVENT
DTSTART;TZID=America/New_York:20240511T090000
DTEND;TZID=America/New_York:20240511T120000
DTSTAMP:20260423T062719
CREATED:20240402T202116Z
LAST-MODIFIED:20240402T202116Z
UID:16476-1715418000-1715428800@hillsboroughares.org
SUMMARY:EDVantage Class "Radio Fox Hunt"
DESCRIPTION:We will start with a Power Point Presentation at the PSOC and then go on an actual Radio Fox Hunt.  We will begin at 9am and end about noon.
URL:https://hillsboroughares.org/event/edvantage-class-radio-fox-hunt-2/
LOCATION:Hillsborough County PSOC\, 9450 E Columbus Drive\, Tampa\, FL\, 33619\, United States
ATTACH;FMTTYPE=image/jpeg:https://hillsboroughares.org/wp-content/uploads/2021/11/PSOC-Front-NR-1.jpg
END:VEVENT
BEGIN:VEVENT
DTSTART;TZID=America/New_York:20240509T193000
DTEND;TZID=America/New_York:20240509T200000
DTSTAMP:20260423T062719
CREATED:20240410T133209Z
LAST-MODIFIED:20240410T133209Z
UID:16487-1715283000-1715284800@hillsboroughares.org
SUMMARY:ARES/RACES Weekly Net
DESCRIPTION:
URL:https://hillsboroughares.org/event/ares-races-weekly-net-40/
ATTACH;FMTTYPE=image/png:https://hillsboroughares.org/wp-content/uploads/2022/07/ARES-RACES-Net-N1CDO.png
END:VEVENT
BEGIN:VEVENT
DTSTART;TZID=America/New_York:20240504T080000
DTEND;TZID=America/New_York:20240504T170000
DTSTAMP:20260423T062719
CREATED:20240228T151124Z
LAST-MODIFIED:20240228T151124Z
UID:16451-1714809600-1714842000@hillsboroughares.org
SUMMARY:Amateur Radio License Class "General"
DESCRIPTION:Hillsborough County ARES/RACES is proud to sponsor the  Amateur Radio “General” License Course in a traditional classroom setting. Please invite your friends to come join the several hundred people who have taken this courses and earned an Amateur Radio license during the last few years. \nThis is 2 day class. You must attend both days of the class. The class is from 8am to 5pm on Saturday\, April 20th and Saturday\, May 4th.  Testing will take place at 2pm on May 4th at 3 pm. \nThe cost is $45 – this includes both classes\, your book\, testing fee and any additional materials. \nThere will be several breaks and 1 hour for lunch. There are fridges at the PSOC for brought lunches\, Uber Eats delivers there and many restaurants close by to choose from. \nYou Must obtain a FCC issued FRN number Before taking the Test. \nWe will explain how to apply during the first class session. \nThe FCC will collect a $35 fee when your License Application is approved.\n\nThe new $35 application fee applies to new\, renewal\, rule waiver\, and modification applications that request a new vanity call sign. The fee will be per application. \nAdministrative updates\, such as a change of name\, mailing or email address\, and modification applications to upgrade an amateur radio licensee’s operator class or to request a sequentially issued call sign\, are exempt from fees. \nYou can review the details of the Fee on the ARRL Website at \nhttps://www.arrl.org/fcc-application-fee
URL:https://hillsboroughares.org/event/amateur-radio-license-class-general-2/
LOCATION:Hillsborough County PSOC\, 9450 E Columbus Drive\, Tampa\, FL\, 33619\, United States
CATEGORIES:Education,Training
ATTACH;FMTTYPE=image/jpeg:https://hillsboroughares.org/wp-content/uploads/2021/11/PSOC-Front-NR-1.jpg
END:VEVENT
BEGIN:VEVENT
DTSTART;TZID=America/New_York:20240504T080000
DTEND;TZID=America/New_York:20240504T170000
DTSTAMP:20260423T062719
CREATED:20240228T150441Z
LAST-MODIFIED:20240228T150441Z
UID:16447-1714809600-1714842000@hillsboroughares.org
SUMMARY:Amateur Radio License Class  "Technician"
DESCRIPTION:Hillsborough County ARES/RACES is proud to sponsor the  Amateur Radio “Technician” License Course in a traditional classroom setting. Please invite your friends to come join the several hundred people who have taken this courses and earned an Amateur Radio license during the last few years. \nThis is 2 day class. You must attend both days of the class. The class is from 8am to 5pm on Saturday\, April 20th and Saturday\, May 4th.  Testing will take place at 2pm on May 4th at 3 pm. \nThe cost is $45 – this includes both classes\, your book\, testing fee and any additional materials. \nThere will be several breaks and 1 hour for lunch. There are fridges at the PSOC for brought lunches\, Uber Eats delivers there and many restaurants close by to choose from. \nYou Must obtain a FCC issued FRN number Before taking the Test. \nWe will explain how to apply during the first class session. \nThe FCC will collect a $35 fee when your License Application is approved.\n\nThe new $35 application fee applies to new\, renewal\, rule waiver\, and modification applications that request a new vanity call sign. The fee will be per application. \nAdministrative updates\, such as a change of name\, mailing or email address\, and modification applications to upgrade an amateur radio licensee’s operator class or to request a sequentially issued call sign\, are exempt from fees. \nYou can review the details of the Fee on the ARRL Website at \nhttps://www.arrl.org/fcc-application-fee
URL:https://hillsboroughares.org/event/amateur-radio-license-class-technician-2/
LOCATION:Hillsborough County PSOC\, 9450 E Columbus Drive\, Tampa\, FL\, 33619\, United States
CATEGORIES:Education,Training
ATTACH;FMTTYPE=image/jpeg:https://hillsboroughares.org/wp-content/uploads/2021/11/PSOC-Front-NR-1.jpg
END:VEVENT
BEGIN:VEVENT
DTSTART;TZID=America/New_York:20240502T193000
DTEND;TZID=America/New_York:20240502T200000
DTSTAMP:20260423T062719
CREATED:20240410T132612Z
LAST-MODIFIED:20240410T132612Z
UID:16485-1714678200-1714680000@hillsboroughares.org
SUMMARY:ARES/RACES Weekly Net
DESCRIPTION:
URL:https://hillsboroughares.org/event/ares-races-weekly-net-39/
ATTACH;FMTTYPE=image/png:https://hillsboroughares.org/wp-content/uploads/2022/07/ARES-RACES-Net-N1CDO.png
END:VEVENT
BEGIN:VEVENT
DTSTART;TZID=America/New_York:20240427T090000
DTEND;TZID=America/New_York:20240427T120000
DTSTAMP:20260423T062719
CREATED:20231213T155132Z
LAST-MODIFIED:20240131T220820Z
UID:16348-1714208400-1714219200@hillsboroughares.org
SUMMARY:ARES/RACES Quarterly Meeting
DESCRIPTION:This is a required Quarterly Meeting.  The Meeting will start at 9am and will be followed by a special training event at 10:30.
URL:https://hillsboroughares.org/event/ares-races-quarterly-meeting/
LOCATION:Hillsborough County PSOC\, 9450 E Columbus Drive\, Tampa\, FL\, 33619\, United States
ATTACH;FMTTYPE=image/jpeg:https://hillsboroughares.org/wp-content/uploads/2021/11/PSOC-Front-NR-1.jpg
END:VEVENT
BEGIN:VEVENT
DTSTART;TZID=America/New_York:20240425T193000
DTEND;TZID=America/New_York:20240425T200000
DTSTAMP:20260423T062719
CREATED:20240131T223144Z
LAST-MODIFIED:20240131T223144Z
UID:16427-1714073400-1714075200@hillsboroughares.org
SUMMARY:ARES/RACES Weekly Net
DESCRIPTION:
URL:https://hillsboroughares.org/event/ares-races-weekly-net-38/
ATTACH;FMTTYPE=image/png:https://hillsboroughares.org/wp-content/uploads/2022/07/ARES-RACES-Net-N1CDO.png
END:VEVENT
BEGIN:VEVENT
DTSTART;TZID=America/New_York:20240425T080000
DTEND;TZID=America/New_York:20240425T120000
DTSTAMP:20260423T062719
CREATED:20240417T230353Z
LAST-MODIFIED:20240417T230353Z
UID:16526-1714032000-1714046400@hillsboroughares.org
SUMMARY:Hillsborough Media Day
DESCRIPTION:
URL:https://hillsboroughares.org/event/hillsborough-media-day/
LOCATION:Hillsborough County PSOC\, 9450 E Columbus Drive\, Tampa\, FL\, 33619\, United States
ATTACH;FMTTYPE=image/jpeg:https://hillsboroughares.org/wp-content/uploads/2021/11/PSOC-Front-NR-1.jpg
END:VEVENT
BEGIN:VEVENT
DTSTART;TZID=America/New_York:20240420T080000
DTEND;TZID=America/New_York:20240420T170000
DTSTAMP:20260423T062719
CREATED:20240228T150819Z
LAST-MODIFIED:20240228T150819Z
UID:16449-1713600000-1713632400@hillsboroughares.org
SUMMARY:Amateur Radio License Class "General"
DESCRIPTION:Hillsborough County ARES/RACES is proud to sponsor the  Amateur Radio “General” License Course in a traditional classroom setting. Please invite your friends to come join the several hundred people who have taken this courses and earned an Amateur Radio license during the last few years. \nThis is 2 day class. You must attend both days of the class. The class is from 8am to 5pm on Saturday\, April 20th and Saturday\, May 4th.  Testing will take place at 2pm on May 4th at 3 pm. \nThe cost is $45 – this includes both classes\, your book\, testing fee and any additional materials. \nThere will be several breaks and 1 hour for lunch. There are fridges at the PSOC for brought lunches\, Uber Eats delivers there and many restaurants close by to choose from. \nYou Must obtain a FCC issued FRN number Before taking the Test. \nWe will explain how to apply during the first class session. \nThe FCC will collect a $35 fee when your License Application is approved.\n\nThe new $35 application fee applies to new\, renewal\, rule waiver\, and modification applications that request a new vanity call sign. The fee will be per application. \nAdministrative updates\, such as a change of name\, mailing or email address\, and modification applications to upgrade an amateur radio licensee’s operator class or to request a sequentially issued call sign\, are exempt from fees. \nYou can review the details of the Fee on the ARRL Website at \nhttps://www.arrl.org/fcc-application-fee
URL:https://hillsboroughares.org/event/amateur-radio-license-class-general/
LOCATION:Hillsborough County PSOC\, 9450 E Columbus Drive\, Tampa\, FL\, 33619\, United States
CATEGORIES:Education,Training
ATTACH;FMTTYPE=image/jpeg:https://hillsboroughares.org/wp-content/uploads/2021/11/PSOC-Front-NR-1.jpg
END:VEVENT
BEGIN:VEVENT
DTSTART;TZID=America/New_York:20240420T080000
DTEND;TZID=America/New_York:20240420T170000
DTSTAMP:20260423T062719
CREATED:20240228T150122Z
LAST-MODIFIED:20240419T202523Z
UID:16445-1713600000-1713632400@hillsboroughares.org
SUMMARY:Amateur Radio License Class "Technician"
DESCRIPTION:Hillsborough County ARES/RACES is proud to sponsor the  Amateur Radio “Technician” License Course in a traditional classroom setting. Please invite your friends to come join the several hundred people who have taken this courses and earned an Amateur Radio license during the last few years. \nThis is 2 day class. You must attend both days of the class. The class is from 8am to 5pm on Saturday\, April 20th and Saturday\, May 4th.  Testing will take place at 2pm on May 4th at 3 pm. \nThe cost is $45 – this includes both classes\, your book\, testing fee and any additional materials. \nThere will be several breaks and 1 hour for lunch. There are fridges at the PSOC for brought lunches\, Uber Eats delivers there and many restaurants close by to choose from. \nYou Must obtain a FCC issued FRN number Before taking the Test. \nWe will explain how to apply during the first class session. \nThe FCC will collect a $35 fee when your License Application is approved.\n\nThe new $35 application fee applies to new\, renewal\, rule waiver\, and modification applications that request a new vanity call sign. The fee will be per application. \nAdministrative updates\, such as a change of name\, mailing or email address\, and modification applications to upgrade an amateur radio licensee’s operator class or to request a sequentially issued call sign\, are exempt from fees. \nYou can review the details of the Fee on the ARRL Website at \nhttps://www.arrl.org/fcc-application-fee
URL:https://hillsboroughares.org/event/amateur-radio-license-class-technician/
LOCATION:Hillsborough County PSOC\, 9450 E Columbus Drive\, Tampa\, FL\, 33619\, United States
CATEGORIES:Education,Training
ATTACH;FMTTYPE=image/jpeg:https://hillsboroughares.org/wp-content/uploads/2021/11/PSOC-Front-NR-1.jpg
END:VEVENT
BEGIN:VEVENT
DTSTART;TZID=America/New_York:20240418T193000
DTEND;TZID=America/New_York:20240418T200000
DTSTAMP:20260423T062719
CREATED:20240131T223013Z
LAST-MODIFIED:20240131T223013Z
UID:16425-1713468600-1713470400@hillsboroughares.org
SUMMARY:ARES/RACES Weekly Net
DESCRIPTION:
URL:https://hillsboroughares.org/event/ares-races-weekly-net-37/
ATTACH;FMTTYPE=image/png:https://hillsboroughares.org/wp-content/uploads/2022/07/ARES-RACES-Net-N1CDO.png
END:VEVENT
BEGIN:VEVENT
DTSTART;TZID=America/New_York:20240414T080000
DTEND;TZID=America/New_York:20240419T170000
DTSTAMP:20260423T062719
CREATED:20240131T221423Z
LAST-MODIFIED:20240131T221423Z
UID:16418-1713081600-1713546000@hillsboroughares.org
SUMMARY:Alternat EOC EXERCISE
DESCRIPTION:More Information as the date approaches.
URL:https://hillsboroughares.org/event/alternat-eoc-exercise/
END:VEVENT
BEGIN:VEVENT
DTSTART;TZID=America/New_York:20240413T080000
DTEND;TZID=America/New_York:20240413T130000
DTSTAMP:20260423T062719
CREATED:20240312T195640Z
LAST-MODIFIED:20240405T142612Z
UID:16470-1712995200-1713013200@hillsboroughares.org
SUMMARY:April TARCFEST
DESCRIPTION:April TARCFEST Starts at 08:00 and ends at 13:00 \nLocation: 7801 N 22nd St\, Tampa\, FL 33610
URL:https://hillsboroughares.org/event/april-tarcfest/
LOCATION:TARC Club House\, 7801 N 22nd St\, Tampa\, FL\, 33610\, United States
END:VEVENT
BEGIN:VEVENT
DTSTART;TZID=America/New_York:20240411T193000
DTEND;TZID=America/New_York:20240411T200000
DTSTAMP:20260423T062719
CREATED:20240131T222843Z
LAST-MODIFIED:20240131T222843Z
UID:16423-1712863800-1712865600@hillsboroughares.org
SUMMARY:ARES/RACES Weekly Net
DESCRIPTION:
URL:https://hillsboroughares.org/event/ares-races-weekly-net-36/
ATTACH;FMTTYPE=image/png:https://hillsboroughares.org/wp-content/uploads/2022/07/ARES-RACES-Net-N1CDO.png
END:VEVENT
BEGIN:VEVENT
DTSTART;TZID=America/New_York:20240410T180000
DTEND;TZID=America/New_York:20240410T190000
DTSTAMP:20260423T062719
CREATED:20240131T223722Z
LAST-MODIFIED:20240410T124538Z
UID:16431-1712772000-1712775600@hillsboroughares.org
SUMMARY:Planning Committee Meeting
DESCRIPTION:AEC’s Only
URL:https://hillsboroughares.org/event/planning-committee-meeting-5/
ATTACH;FMTTYPE=image/jpeg:https://hillsboroughares.org/wp-content/uploads/2021/11/PSOC-Front-NR-1.jpg
END:VEVENT
BEGIN:VEVENT
DTSTART;TZID=America/New_York:20240406T090000
DTEND;TZID=America/New_York:20240406T123000
DTSTAMP:20260423T062719
CREATED:20240221T152524Z
LAST-MODIFIED:20240402T202752Z
UID:16443-1712394000-1712406600@hillsboroughares.org
SUMMARY:Date Change for  "Radio Fox Hunt" Now May 11th
DESCRIPTION:This Class has been moved to May 11th at 9:00 am. \nWe will start with a Power Point Presentation at the PSOC and then go on an actual Radio Fox Hunt.  We will begin at 9am and end about noon.
URL:https://hillsboroughares.org/event/edvantage-class-radio-fox-hunt/
LOCATION:Hillsborough County PSOC\, 9450 E Columbus Drive\, Tampa\, FL\, 33619\, United States
ATTACH;FMTTYPE=image/jpeg:https://hillsboroughares.org/wp-content/uploads/2021/11/PSOC-Front-NR-1.jpg
END:VEVENT
BEGIN:VEVENT
DTSTART;TZID=America/New_York:20240404T193000
DTEND;TZID=America/New_York:20240404T200000
DTSTAMP:20260423T062719
CREATED:20240131T222704Z
LAST-MODIFIED:20240131T222704Z
UID:16421-1712259000-1712260800@hillsboroughares.org
SUMMARY:ARES/RACES Weekly Net
DESCRIPTION:
URL:https://hillsboroughares.org/event/ares-races-weekly-net-35/
ATTACH;FMTTYPE=image/png:https://hillsboroughares.org/wp-content/uploads/2022/07/ARES-RACES-Net-N1CDO.png
END:VEVENT
BEGIN:VEVENT
DTSTART;TZID=America/New_York:20240328T193000
DTEND;TZID=America/New_York:20240328T200000
DTSTAMP:20260423T062719
CREATED:20240103T191912Z
LAST-MODIFIED:20240103T191912Z
UID:16401-1711654200-1711656000@hillsboroughares.org
SUMMARY:ARES/RACES Weekly Net
DESCRIPTION:
URL:https://hillsboroughares.org/event/ares-races-weekly-net-34/
ATTACH;FMTTYPE=image/png:https://hillsboroughares.org/wp-content/uploads/2022/07/ARES-RACES-Net-N1CDO.png
END:VEVENT
BEGIN:VEVENT
DTSTART;TZID=America/New_York:20240321T193000
DTEND;TZID=America/New_York:20240321T200000
DTSTAMP:20260423T062719
CREATED:20240103T191726Z
LAST-MODIFIED:20240103T191726Z
UID:16399-1711049400-1711051200@hillsboroughares.org
SUMMARY:ARES/RACES Weekly Net
DESCRIPTION:
URL:https://hillsboroughares.org/event/ares-races-weekly-net-33/
ATTACH;FMTTYPE=image/png:https://hillsboroughares.org/wp-content/uploads/2022/07/ARES-RACES-Net-N1CDO.png
END:VEVENT
BEGIN:VEVENT
DTSTART;TZID=America/New_York:20240320T180000
DTEND;TZID=America/New_York:20240320T190000
DTSTAMP:20260423T062719
CREATED:20240131T223528Z
LAST-MODIFIED:20240131T223528Z
UID:16429-1710957600-1710961200@hillsboroughares.org
SUMMARY:Planning Committee Meeting
DESCRIPTION:AEC’s Only
URL:https://hillsboroughares.org/event/planning-committee-meeting-4/
ATTACH;FMTTYPE=image/jpeg:https://hillsboroughares.org/wp-content/uploads/2021/11/PSOC-Front-NR-1.jpg
END:VEVENT
BEGIN:VEVENT
DTSTART;TZID=America/New_York:20240314T193000
DTEND;TZID=America/New_York:20240314T200000
DTSTAMP:20260423T062719
CREATED:20240103T191508Z
LAST-MODIFIED:20240103T191508Z
UID:16397-1710444600-1710446400@hillsboroughares.org
SUMMARY:ARES/RACES Weekly Net
DESCRIPTION:
URL:https://hillsboroughares.org/event/ares-races-weekly-net-32/
ATTACH;FMTTYPE=image/png:https://hillsboroughares.org/wp-content/uploads/2022/07/ARES-RACES-Net-N1CDO.png
END:VEVENT
BEGIN:VEVENT
DTSTART;TZID=America/New_York:20240309T090000
DTEND;TZID=America/New_York:20240309T120000
DTSTAMP:20260423T062719
CREATED:20240221T151100Z
LAST-MODIFIED:20240221T151100Z
UID:16441-1709974800-1709985600@hillsboroughares.org
SUMMARY:EDVantage Class "Antenna Tuning - SWR - Radiation"
DESCRIPTION:Learn how to Tune your antenna\, adjust swr and \,check radiation.
URL:https://hillsboroughares.org/event/edvantage-class-antenna-tuning-swr-radiation/
LOCATION:Hillsborough County PSOC\, 9450 E Columbus Drive\, Tampa\, FL\, 33619\, United States
ATTACH;FMTTYPE=image/jpeg:https://hillsboroughares.org/wp-content/uploads/2021/11/PSOC-Front-NR-1.jpg
END:VEVENT
BEGIN:VEVENT
DTSTART;TZID=America/New_York:20240307T193000
DTEND;TZID=America/New_York:20240307T200000
DTSTAMP:20260423T062719
CREATED:20240103T191243Z
LAST-MODIFIED:20240103T191243Z
UID:16395-1709839800-1709841600@hillsboroughares.org
SUMMARY:ARES/RACES Weekly Net
DESCRIPTION:
URL:https://hillsboroughares.org/event/ares-races-weekly-net-31/
ATTACH;FMTTYPE=image/png:https://hillsboroughares.org/wp-content/uploads/2022/07/ARES-RACES-Net-N1CDO.png
END:VEVENT
BEGIN:VEVENT
DTSTART;TZID=America/New_York:20240229T193000
DTEND;TZID=America/New_York:20240229T200000
DTSTAMP:20260423T062719
CREATED:20240103T191007Z
LAST-MODIFIED:20240103T191007Z
UID:16393-1709235000-1709236800@hillsboroughares.org
SUMMARY:ARES/RACES Weekly Net
DESCRIPTION:
URL:https://hillsboroughares.org/event/ares-races-weekly-net-30/
ATTACH;FMTTYPE=image/png:https://hillsboroughares.org/wp-content/uploads/2022/07/ARES-RACES-Net-N1CDO.png
END:VEVENT
BEGIN:VEVENT
DTSTART;VALUE=DATE:20240224
DTEND;VALUE=DATE:20240225
DTSTAMP:20260423T062719
CREATED:20240103T173501Z
LAST-MODIFIED:20240220T215814Z
UID:16387-1708732800-1708819199@hillsboroughares.org
SUMMARY:10th Annual TECHCON 2024
DESCRIPTION:WCF TECHCON  Saturday February  24th 2024 \nHeld at the Hillsborough County Public Safety Operations Complex \n9450 E. Columbus Dr. Tampa Florida \nRegistration and Information
URL:https://hillsboroughares.org/event/10th-annual-techcon-2024/
LOCATION:Hillsborough County PSOC\, 9450 E Columbus Drive\, Tampa\, FL\, 33619\, United States
ATTACH;FMTTYPE=image/jpeg:https://hillsboroughares.org/wp-content/uploads/2021/11/PSOC-Front-NR-1.jpg
END:VEVENT
BEGIN:VEVENT
DTSTART;TZID=America/New_York:20240223T180000
DTEND;TZID=America/New_York:20240223T210000
DTSTAMP:20260423T062719
CREATED:20240220T221059Z
LAST-MODIFIED:20240220T221059Z
UID:16438-1708711200-1708722000@hillsboroughares.org
SUMMARY:ARRL WCF TECHCON Evening Social
DESCRIPTION:Friday Evening Social at Golden Corral \n815 Providence Road\, Brandon\, Fl \n6:00 PM – 9:00 PM
URL:https://hillsboroughares.org/event/arrl-wcf-techcon-evening-social/
LOCATION:Golden Coral\, 815 Providence Rd\, Brandon\, FL\, 33511\, United States
END:VEVENT
BEGIN:VEVENT
DTSTART;TZID=America/New_York:20240222T193000
DTEND;TZID=America/New_York:20240222T200000
DTSTAMP:20260423T062719
CREATED:20240103T190810Z
LAST-MODIFIED:20240103T190810Z
UID:16391-1708630200-1708632000@hillsboroughares.org
SUMMARY:ARES/RACES Weekly Net
DESCRIPTION:
URL:https://hillsboroughares.org/event/ares-races-weekly-net-29/
ATTACH;FMTTYPE=image/png:https://hillsboroughares.org/wp-content/uploads/2022/07/ARES-RACES-Net-N1CDO.png
END:VEVENT
BEGIN:VEVENT
DTSTART;TZID=America/New_York:20240221T180000
DTEND;TZID=America/New_York:20240221T190000
DTSTAMP:20260423T062719
CREATED:20240103T192707Z
LAST-MODIFIED:20240103T192707Z
UID:16405-1708538400-1708542000@hillsboroughares.org
SUMMARY:Planning Committee Meeting
DESCRIPTION:AEC’s ONLY
URL:https://hillsboroughares.org/event/planning-committee-meeting-3/
END:VEVENT
END:VCALENDAR