BEGIN:VCALENDAR
VERSION:2.0
PRODID:-//Hillsborough County ARES/RACES Inc. - ECPv6.15.20//NONSGML v1.0//EN
CALSCALE:GREGORIAN
METHOD:PUBLISH
X-WR-CALNAME:Hillsborough County ARES/RACES Inc.
X-ORIGINAL-URL:https://hillsboroughares.org
X-WR-CALDESC:Events for Hillsborough County ARES/RACES Inc.
REFRESH-INTERVAL;VALUE=DURATION:PT1H
X-Robots-Tag:noindex
X-PUBLISHED-TTL:PT1H
BEGIN:VTIMEZONE
TZID:America/New_York
BEGIN:DAYLIGHT
TZOFFSETFROM:-0500
TZOFFSETTO:-0400
TZNAME:EDT
DTSTART:20240310T070000
END:DAYLIGHT
BEGIN:STANDARD
TZOFFSETFROM:-0400
TZOFFSETTO:-0500
TZNAME:EST
DTSTART:20241103T060000
END:STANDARD
BEGIN:DAYLIGHT
TZOFFSETFROM:-0500
TZOFFSETTO:-0400
TZNAME:EDT
DTSTART:20250309T070000
END:DAYLIGHT
BEGIN:STANDARD
TZOFFSETFROM:-0400
TZOFFSETTO:-0500
TZNAME:EST
DTSTART:20251102T060000
END:STANDARD
BEGIN:DAYLIGHT
TZOFFSETFROM:-0500
TZOFFSETTO:-0400
TZNAME:EDT
DTSTART:20260308T070000
END:DAYLIGHT
BEGIN:STANDARD
TZOFFSETFROM:-0400
TZOFFSETTO:-0500
TZNAME:EST
DTSTART:20261101T060000
END:STANDARD
END:VTIMEZONE
BEGIN:VEVENT
DTSTART;TZID=America/New_York:20250809T080000
DTEND;TZID=America/New_York:20250809T170000
DTSTAMP:20260420T035106
CREATED:20250312T184125Z
LAST-MODIFIED:20250722T125929Z
UID:16898-1754726400-1754758800@hillsboroughares.org
SUMMARY:Amateur Radio "Technician License Class"
DESCRIPTION:Hillsborough County ARES/RACES is proud to sponsor the  Amateur Radio “Technician” License Course in a traditional classroom setting. Please invite your friends to come join the several hundred people who have taken this courses and earned an Amateur Radio license during the last few years. \nThis is 2 day class. You must attend both days of the class. The class is from 8am to 5pm on Saturday\, July 26th and Saturday\, August 9th .  Testing will take place on August 9th  at 3 pm. \nThe cost is $45 – this includes both classes\, your book\, testing fee and any additional materials. \nThere will be several breaks and 1 hour for lunch. There are fridges at the PSOC for brought lunches\, Uber Eats delivers there and many restaurants close by to choose from. \nYou Must obtain a FCC issued FRN number Before taking the Test. \nWe will explain how to apply during the first class session. \nThe FCC will collect a $35 fee when your License Application is approved.\n\nThe new $35 application fee applies to new\, renewal\, rule waiver\, and modification applications that request a new vanity call sign. The fee will be per application. \nAdministrative updates\, such as a change of name\, mailing or email address\, and modification applications to upgrade an amateur radio licensee’s operator class or to request a sequentially issued call sign\, are exempt from fees. \nYou can review the details of the Fee on the ARRL Website at \nhttps://www.arrl.org/fcc-application-fee
URL:https://hillsboroughares.org/event/amateur-radio-technician-license-class-9/
LOCATION:Hillsborough County PSOC\, 9450 E Columbus Drive\, Tampa\, FL\, 33619\, United States
CATEGORIES:Education,Training
ATTACH;FMTTYPE=image/jpeg:https://hillsboroughares.org/wp-content/uploads/2021/11/PSOC-Front-NR-1.jpg
END:VEVENT
BEGIN:VEVENT
DTSTART;TZID=America/New_York:20250807T193000
DTEND;TZID=America/New_York:20250807T200000
DTSTAMP:20260420T035106
CREATED:20250707T154019Z
LAST-MODIFIED:20250713T222246Z
UID:17023-1754595000-1754596800@hillsboroughares.org
SUMMARY:ARES/RACES Weekly Net
DESCRIPTION:
URL:https://hillsboroughares.org/event/ares-races-weekly-net-97/
ATTACH;FMTTYPE=image/jpeg:https://hillsboroughares.org/wp-content/uploads/2025/06/New-ARES-Net.jpg
END:VEVENT
BEGIN:VEVENT
DTSTART;TZID=America/New_York:20250731T193000
DTEND;TZID=America/New_York:20250731T200000
DTSTAMP:20260420T035106
CREATED:20250512T153444Z
LAST-MODIFIED:20250625T215043Z
UID:16996-1753990200-1753992000@hillsboroughares.org
SUMMARY:ARES/RACES Weekly Net
DESCRIPTION:
URL:https://hillsboroughares.org/event/ares-races-weekly-net-96/
ATTACH;FMTTYPE=image/jpeg:https://hillsboroughares.org/wp-content/uploads/2025/06/New-ARES-Net.jpg
END:VEVENT
BEGIN:VEVENT
DTSTART;TZID=America/New_York:20250726T080000
DTEND;TZID=America/New_York:20250726T170000
DTSTAMP:20260420T035106
CREATED:20250312T184700Z
LAST-MODIFIED:20250722T130031Z
UID:16900-1753516800-1753549200@hillsboroughares.org
SUMMARY:Amateur Radio "General License Class"
DESCRIPTION:Hillsborough County ARES/RACES is proud to sponsor the  Amateur Radio “General” License Course in a traditional classroom setting. Please invite your friends to come join the several hundred people who have taken this courses and earned an Amateur Radio license during the last few years. \nThis is 2 day class. You must attend both days of the class. The class is from 8am to 5pm on Saturday\, July 26th  and Saturday\, August 9th.  Testing will take place on August 9th at 3 pm. \nThe cost is $45 – this includes both classes\, your book\, testing fee and any additional materials. \nThere will be several breaks and 1 hour for lunch. There are fridges at the PSOC for brought lunches\, Uber Eats delivers there and many restaurants close by to choose from. \nYou Must obtain a FCC issued FRN number Before taking the Test. \nWe will explain how to apply during the first class session. \nThe FCC will collect a $35 fee when your License Application is approved.\n\nThe new $35 application fee applies to new\, renewal\, rule waiver\, and modification applications that request a new vanity call sign. The fee will be per application. \nAdministrative updates\, such as a change of name\, mailing or email address\, and modification applications to upgrade an amateur radio licensee’s operator class or to request a sequentially issued call sign\, are exempt from fees. \nYou can review the details of the Fee on the ARRL Website at \nhttps://www.arrl.org/fcc-application-fee
URL:https://hillsboroughares.org/event/amateur-radio-general-license-class-5/
LOCATION:Hillsborough County PSOC\, 9450 E Columbus Drive\, Tampa\, FL\, 33619\, United States
CATEGORIES:Education,Training
ATTACH;FMTTYPE=image/jpeg:https://hillsboroughares.org/wp-content/uploads/2021/11/PSOC-Front-NR-1.jpg
END:VEVENT
BEGIN:VEVENT
DTSTART;TZID=America/New_York:20250726T080000
DTEND;TZID=America/New_York:20250726T170000
DTSTAMP:20260420T035106
CREATED:20250312T183902Z
LAST-MODIFIED:20250722T125837Z
UID:16896-1753516800-1753549200@hillsboroughares.org
SUMMARY:Amateur Radio "Technician License Class"
DESCRIPTION:Hillsborough County ARES/RACES is proud to sponsor the  Amateur Radio “Technician” License Course in a traditional classroom setting. Please invite your friends to come join the several hundred people who have taken this courses and earned an Amateur Radio license during the last few years. \nThis is 2 day class. You must attend both days of the class. The class is from 8am to 5pm on Saturday\, July 26th and Saturday\, August 9th .  Testing will take place on August 9th  at 3 pm. \nThe cost is $45 – this includes both classes\, your book\, testing fee and any additional materials. \nThere will be several breaks and 1 hour for lunch. There are fridges at the PSOC for brought lunches\, Uber Eats delivers there and many restaurants close by to choose from. \nYou Must obtain a FCC issued FRN number Before taking the Test. \nWe will explain how to apply during the first class session. \nThe FCC will collect a $35 fee when your License Application is approved.\n\nThe new $35 application fee applies to new\, renewal\, rule waiver\, and modification applications that request a new vanity call sign. The fee will be per application. \nAdministrative updates\, such as a change of name\, mailing or email address\, and modification applications to upgrade an amateur radio licensee’s operator class or to request a sequentially issued call sign\, are exempt from fees. \nYou can review the details of the Fee on the ARRL Website at \nhttps://www.arrl.org/fcc-application-fee
URL:https://hillsboroughares.org/event/amateur-radio-technician-license-class-8/
LOCATION:Hillsborough County PSOC\, 9450 E Columbus Drive\, Tampa\, FL\, 33619\, United States
CATEGORIES:Education,Training
ATTACH;FMTTYPE=image/jpeg:https://hillsboroughares.org/wp-content/uploads/2021/11/PSOC-Front-NR-1.jpg
END:VEVENT
BEGIN:VEVENT
DTSTART;TZID=America/New_York:20250724T193000
DTEND;TZID=America/New_York:20250724T200000
DTSTAMP:20260420T035106
CREATED:20250512T153225Z
LAST-MODIFIED:20250625T214942Z
UID:16994-1753385400-1753387200@hillsboroughares.org
SUMMARY:ARES/RACES Weekly Net
DESCRIPTION:
URL:https://hillsboroughares.org/event/ares-races-weekly-net-95/
ATTACH;FMTTYPE=image/jpeg:https://hillsboroughares.org/wp-content/uploads/2025/06/New-ARES-Net.jpg
END:VEVENT
BEGIN:VEVENT
DTSTART;TZID=America/New_York:20250719T090000
DTEND;TZID=America/New_York:20250719T120000
DTSTAMP:20260420T035106
CREATED:20250210T191321Z
LAST-MODIFIED:20250423T155749Z
UID:16849-1752915600-1752926400@hillsboroughares.org
SUMMARY:BiMonthly ARES/RACES Meeting & Skywarn Training
DESCRIPTION:SkyWarn Training will be included at the end of the meeting. \nThe NWS will be here to give in person training for people desiring to become SkyWarn Certified.  If you are SkyWarn trained you must attend a training every three years to stay certified.
URL:https://hillsboroughares.org/event/bimonthly-ares-races-meeting-3/
LOCATION:Hillsborough County PSOC\, 9450 E Columbus Drive\, Tampa\, FL\, 33619\, United States
ATTACH;FMTTYPE=image/jpeg:https://hillsboroughares.org/wp-content/uploads/2021/11/PSOC-Front-NR-1.jpg
END:VEVENT
BEGIN:VEVENT
DTSTART;TZID=America/New_York:20250717T193000
DTEND;TZID=America/New_York:20250717T200000
DTSTAMP:20260420T035106
CREATED:20250512T153031Z
LAST-MODIFIED:20250625T214227Z
UID:16992-1752780600-1752782400@hillsboroughares.org
SUMMARY:ARES/RACES Weekly Net
DESCRIPTION:
URL:https://hillsboroughares.org/event/ares-races-weekly-net-94/
ATTACH;FMTTYPE=image/jpeg:https://hillsboroughares.org/wp-content/uploads/2025/06/New-ARES-Net.jpg
END:VEVENT
BEGIN:VEVENT
DTSTART;TZID=America/New_York:20250716T180000
DTEND;TZID=America/New_York:20250716T190000
DTSTAMP:20260420T035106
CREATED:20250512T152056Z
LAST-MODIFIED:20250512T152056Z
UID:16984-1752688800-1752692400@hillsboroughares.org
SUMMARY:Planning Meeting
DESCRIPTION:AEC’s Only
URL:https://hillsboroughares.org/event/planning-meeting-2/
LOCATION:Hillsborough County PSOC\, 9450 E Columbus Drive\, Tampa\, FL\, 33619\, United States
ATTACH;FMTTYPE=image/jpeg:https://hillsboroughares.org/wp-content/uploads/2021/11/PSOC-Front-NR-1.jpg
END:VEVENT
BEGIN:VEVENT
DTSTART;TZID=America/New_York:20250712T093000
DTEND;TZID=America/New_York:20250712T113000
DTSTAMP:20260420T035106
CREATED:20250213T165534Z
LAST-MODIFIED:20250707T205114Z
UID:16869-1752312600-1752319800@hillsboroughares.org
SUMMARY:Canceled.  We will post a new date later .EDVantage Class "Shelter Radio Operator for New Volunteers"
DESCRIPTION:
URL:https://hillsboroughares.org/event/edvantage-class-2/
LOCATION:Hillsborough County PSOC\, 9450 E Columbus Drive\, Tampa\, FL\, 33619\, United States
ATTACH;FMTTYPE=image/jpeg:https://hillsboroughares.org/wp-content/uploads/2021/11/PSOC-Front-NR-1.jpg
END:VEVENT
BEGIN:VEVENT
DTSTART;TZID=America/New_York:20250710T080000
DTEND;TZID=America/New_York:20250710T170000
DTSTAMP:20260420T035106
CREATED:20250512T152823Z
LAST-MODIFIED:20250625T214139Z
UID:16990-1752134400-1752166800@hillsboroughares.org
SUMMARY:ARES/RACES Weekly Net
DESCRIPTION:
URL:https://hillsboroughares.org/event/ares-races-weekly-net-93/
ATTACH;FMTTYPE=image/jpeg:https://hillsboroughares.org/wp-content/uploads/2025/06/New-ARES-Net.jpg
END:VEVENT
BEGIN:VEVENT
DTSTART;VALUE=DATE:20250704
DTEND;VALUE=DATE:20250705
DTSTAMP:20260420T035106
CREATED:20250512T152302Z
LAST-MODIFIED:20250512T152302Z
UID:16986-1751587200-1751673599@hillsboroughares.org
SUMMARY:Independence Day
DESCRIPTION:
URL:https://hillsboroughares.org/event/independence-day/
END:VEVENT
BEGIN:VEVENT
DTSTART;TZID=America/New_York:20250703T193000
DTEND;TZID=America/New_York:20250703T200000
DTSTAMP:20260420T035106
CREATED:20250512T152521Z
LAST-MODIFIED:20250625T214028Z
UID:16988-1751571000-1751572800@hillsboroughares.org
SUMMARY:ARES/RACES Weekly Net
DESCRIPTION:
URL:https://hillsboroughares.org/event/ares-races-weekly-net-92/
ATTACH;FMTTYPE=image/jpeg:https://hillsboroughares.org/wp-content/uploads/2025/06/New-ARES-Net.jpg
END:VEVENT
BEGIN:VEVENT
DTSTART;VALUE=DATE:20250628
DTEND;VALUE=DATE:20250630
DTSTAMP:20260420T035106
CREATED:20241122T222621Z
LAST-MODIFIED:20241122T222718Z
UID:16767-1751068800-1751241599@hillsboroughares.org
SUMMARY:"FIELD DAY 2025"
DESCRIPTION:
URL:https://hillsboroughares.org/event/amateur-radio-field-day-2025/
CATEGORIES:Public Outreach,Training
END:VEVENT
BEGIN:VEVENT
DTSTART;TZID=America/New_York:20250626T193000
DTEND;TZID=America/New_York:20250626T200000
DTSTAMP:20260420T035106
CREATED:20250512T151711Z
LAST-MODIFIED:20250625T213858Z
UID:16982-1750966200-1750968000@hillsboroughares.org
SUMMARY:ARES/RACES Weekly Net
DESCRIPTION:
URL:https://hillsboroughares.org/event/ares-races-weekly-net-91/
ATTACH;FMTTYPE=image/jpeg:https://hillsboroughares.org/wp-content/uploads/2025/06/New-ARES-Net.jpg
END:VEVENT
BEGIN:VEVENT
DTSTART;TZID=America/New_York:20250621T093000
DTEND;TZID=America/New_York:20250621T113000
DTSTAMP:20260420T035106
CREATED:20250213T170039Z
LAST-MODIFIED:20250611T153425Z
UID:16871-1750498200-1750505400@hillsboroughares.org
SUMMARY:EDVantage Class Radio Programing & Winlink for Shelters
DESCRIPTION:
URL:https://hillsboroughares.org/event/edvantage-class-3/
LOCATION:Hillsborough County PSOC\, 9450 E Columbus Drive\, Tampa\, FL\, 33619\, United States
ATTACH;FMTTYPE=image/jpeg:https://hillsboroughares.org/wp-content/uploads/2021/11/PSOC-Front-NR-1.jpg
END:VEVENT
BEGIN:VEVENT
DTSTART;TZID=America/New_York:20250619T193000
DTEND;TZID=America/New_York:20250619T200000
DTSTAMP:20260420T035106
CREATED:20250512T151435Z
LAST-MODIFIED:20250512T151435Z
UID:16980-1750361400-1750363200@hillsboroughares.org
SUMMARY:ARES/RACES Weekly Net
DESCRIPTION:
URL:https://hillsboroughares.org/event/ares-races-weekly-net-90/
ATTACH;FMTTYPE=image/jpeg:https://hillsboroughares.org/wp-content/uploads/2022/02/ARESNetn1cdo.jpg
END:VEVENT
BEGIN:VEVENT
DTSTART;TZID=America/New_York:20250612T193000
DTEND;TZID=America/New_York:20250612T200000
DTSTAMP:20260420T035106
CREATED:20250512T151203Z
LAST-MODIFIED:20250512T151203Z
UID:16978-1749756600-1749758400@hillsboroughares.org
SUMMARY:ARES/RACES Weekly Net
DESCRIPTION:
URL:https://hillsboroughares.org/event/ares-races-weekly-net-89/
ATTACH;FMTTYPE=image/jpeg:https://hillsboroughares.org/wp-content/uploads/2022/02/ARESNetn1cdo.jpg
END:VEVENT
BEGIN:VEVENT
DTSTART;TZID=America/New_York:20250611T180000
DTEND;TZID=America/New_York:20250611T190000
DTSTAMP:20260420T035106
CREATED:20250512T150052Z
LAST-MODIFIED:20250604T154442Z
UID:16974-1749664800-1749668400@hillsboroughares.org
SUMMARY:Planning Meeting
DESCRIPTION:AEC’s Only
URL:https://hillsboroughares.org/event/planning-meeting/
LOCATION:Hillsborough County PSOC\, 9450 E Columbus Drive\, Tampa\, FL\, 33619\, United States
ATTACH;FMTTYPE=image/jpeg:https://hillsboroughares.org/wp-content/uploads/2021/11/PSOC-Front-NR-1.jpg
END:VEVENT
BEGIN:VEVENT
DTSTART;TZID=America/New_York:20250605T193000
DTEND;TZID=America/New_York:20250605T200000
DTSTAMP:20260420T035106
CREATED:20250512T150931Z
LAST-MODIFIED:20250512T150931Z
UID:16976-1749151800-1749153600@hillsboroughares.org
SUMMARY:ARES/RACES Weekly Net
DESCRIPTION:
URL:https://hillsboroughares.org/event/ares-races-weekly-net-88/
ATTACH;FMTTYPE=image/jpeg:https://hillsboroughares.org/wp-content/uploads/2022/02/ARESNetn1cdo.jpg
END:VEVENT
BEGIN:VEVENT
DTSTART;TZID=America/New_York:20250529T193000
DTEND;TZID=America/New_York:20250529T203000
DTSTAMP:20260420T035106
CREATED:20241123T210544Z
LAST-MODIFIED:20241123T210544Z
UID:16798-1748547000-1748550600@hillsboroughares.org
SUMMARY:ARES/RACES Weekly Net
DESCRIPTION:
URL:https://hillsboroughares.org/event/ares-races-weekly-net-87/
ATTACH;FMTTYPE=image/jpeg:https://hillsboroughares.org/wp-content/uploads/2022/02/ARESNetn1cdo.jpg
END:VEVENT
BEGIN:VEVENT
DTSTART;TZID=America/New_York:20250528T180000
DTEND;TZID=America/New_York:20250528T190000
DTSTAMP:20260420T035106
CREATED:20241122T224937Z
LAST-MODIFIED:20250523T153014Z
UID:16790-1748455200-1748458800@hillsboroughares.org
SUMMARY:Monthly Planning Meeting
DESCRIPTION:AEC’s only
URL:https://hillsboroughares.org/event/monthly-planning-meeting-10/
LOCATION:Hillsborough County PSOC\, 9450 E Columbus Drive\, Tampa\, FL\, 33619\, United States
ATTACH;FMTTYPE=image/jpeg:https://hillsboroughares.org/wp-content/uploads/2021/11/PSOC-Front-NR-1.jpg
END:VEVENT
BEGIN:VEVENT
DTSTART;TZID=America/New_York:20250524T093000
DTEND;TZID=America/New_York:20250524T120000
DTSTAMP:20260420T035106
CREATED:20250213T164921Z
LAST-MODIFIED:20250522T191038Z
UID:16867-1748079000-1748088000@hillsboroughares.org
SUMMARY:EDVantage Class "Shelter radio Operator"
DESCRIPTION:After the meeting there will be a hands on drill using the new Go Kits.  This will be indoors in the meeting room.  Don’t miss this.  No Preregistration Required!
URL:https://hillsboroughares.org/event/edvantage-class-shelter-radio-operator/
LOCATION:Hillsborough County PSOC\, 9450 E Columbus Drive\, Tampa\, FL\, 33619\, United States
ATTACH;FMTTYPE=image/jpeg:https://hillsboroughares.org/wp-content/uploads/2021/11/PSOC-Front-NR-1.jpg
END:VEVENT
BEGIN:VEVENT
DTSTART;TZID=America/New_York:20250522T193000
DTEND;TZID=America/New_York:20250522T203000
DTSTAMP:20260420T035106
CREATED:20241123T210412Z
LAST-MODIFIED:20241123T210412Z
UID:16796-1747942200-1747945800@hillsboroughares.org
SUMMARY:ARES/RACES Weekly Net
DESCRIPTION:
URL:https://hillsboroughares.org/event/ares-races-weekly-net-86/
ATTACH;FMTTYPE=image/jpeg:https://hillsboroughares.org/wp-content/uploads/2022/02/ARESNetn1cdo.jpg
END:VEVENT
BEGIN:VEVENT
DTSTART;TZID=America/New_York:20250519T110000
DTEND;TZID=America/New_York:20250519T120000
DTSTAMP:20260420T035106
CREATED:20250113T200048Z
LAST-MODIFIED:20250401T162232Z
UID:16821-1747652400-1747656000@hillsboroughares.org
SUMMARY:Presentation of Proclamations at PSOC
DESCRIPTION:Hillsborough County Commission Presents Proclamation to ARES/RACES and others.
URL:https://hillsboroughares.org/event/presentation-of-proclamations-at-psoc/
LOCATION:Hillsborough County PSOC\, 9450 E Columbus Drive\, Tampa\, FL\, 33619\, United States
ATTACH;FMTTYPE=image/jpeg:https://hillsboroughares.org/wp-content/uploads/2021/11/PSOC-Front-NR-1.jpg
END:VEVENT
BEGIN:VEVENT
DTSTART;TZID=America/New_York:20250517T090000
DTEND;TZID=America/New_York:20250517T120000
DTSTAMP:20260420T035106
CREATED:20250205T143706Z
LAST-MODIFIED:20250423T153859Z
UID:16840-1747472400-1747483200@hillsboroughares.org
SUMMARY:BiMonthly ARES/RACES Meeting
DESCRIPTION:After Meeting—MARC Unit Practical Drill \nThe drill will consist of “Voice Message Traffic Handling” and “WinLink Message Traffic” using ICS Forms and cross system traffic which can only be done by the MARC Unit.  This will be very exciting to participate in.   \nDon’t Miss This
URL:https://hillsboroughares.org/event/bimonthly-ares-races-meeting-2/
LOCATION:Hillsborough County PSOC\, 9450 E Columbus Drive\, Tampa\, FL\, 33619\, United States
ATTACH;FMTTYPE=image/jpeg:https://hillsboroughares.org/wp-content/uploads/2021/11/PSOC-Front-NR-1.jpg
END:VEVENT
BEGIN:VEVENT
DTSTART;TZID=America/New_York:20250515T193000
DTEND;TZID=America/New_York:20250515T203000
DTSTAMP:20260420T035106
CREATED:20241123T210244Z
LAST-MODIFIED:20241123T210244Z
UID:16794-1747337400-1747341000@hillsboroughares.org
SUMMARY:ARES/RACES Weekly Net
DESCRIPTION:
URL:https://hillsboroughares.org/event/ares-races-weekly-net-85/
ATTACH;FMTTYPE=image/jpeg:https://hillsboroughares.org/wp-content/uploads/2022/02/ARESNetn1cdo.jpg
END:VEVENT
BEGIN:VEVENT
DTSTART;VALUE=DATE:20250511
DTEND;VALUE=DATE:20250512
DTSTAMP:20260420T035106
CREATED:20250405T161405Z
LAST-MODIFIED:20250405T161405Z
UID:16945-1746921600-1747007999@hillsboroughares.org
SUMMARY:Mother's Day
DESCRIPTION:
URL:https://hillsboroughares.org/event/mothers-day/
END:VEVENT
BEGIN:VEVENT
DTSTART;TZID=America/New_York:20250508T193000
DTEND;TZID=America/New_York:20250508T203000
DTSTAMP:20260420T035106
CREATED:20241123T210059Z
LAST-MODIFIED:20241123T210059Z
UID:16792-1746732600-1746736200@hillsboroughares.org
SUMMARY:ARES/RACES Weekly Net
DESCRIPTION:
URL:https://hillsboroughares.org/event/ares-races-weekly-net-84/
ATTACH;FMTTYPE=image/jpeg:https://hillsboroughares.org/wp-content/uploads/2022/02/ARESNetn1cdo.jpg
END:VEVENT
BEGIN:VEVENT
DTSTART;VALUE=DATE:20250505
DTEND;VALUE=DATE:20250506
DTSTAMP:20260420T035106
CREATED:20250405T161246Z
LAST-MODIFIED:20250405T161246Z
UID:16943-1746403200-1746489599@hillsboroughares.org
SUMMARY:Cinco de Mayo
DESCRIPTION:
URL:https://hillsboroughares.org/event/cinco-de-mayo/
END:VEVENT
END:VCALENDAR