BEGIN:VCALENDAR
VERSION:2.0
PRODID:-//Hillsborough County ARES/RACES Inc. - ECPv6.15.20//NONSGML v1.0//EN
CALSCALE:GREGORIAN
METHOD:PUBLISH
X-ORIGINAL-URL:https://hillsboroughares.org
X-WR-CALDESC:Events for Hillsborough County ARES/RACES Inc.
REFRESH-INTERVAL;VALUE=DURATION:PT1H
X-Robots-Tag:noindex
X-PUBLISHED-TTL:PT1H
BEGIN:VTIMEZONE
TZID:America/New_York
BEGIN:DAYLIGHT
TZOFFSETFROM:-0500
TZOFFSETTO:-0400
TZNAME:EDT
DTSTART:20230312T070000
END:DAYLIGHT
BEGIN:STANDARD
TZOFFSETFROM:-0400
TZOFFSETTO:-0500
TZNAME:EST
DTSTART:20231105T060000
END:STANDARD
BEGIN:DAYLIGHT
TZOFFSETFROM:-0500
TZOFFSETTO:-0400
TZNAME:EDT
DTSTART:20240310T070000
END:DAYLIGHT
BEGIN:STANDARD
TZOFFSETFROM:-0400
TZOFFSETTO:-0500
TZNAME:EST
DTSTART:20241103T060000
END:STANDARD
BEGIN:DAYLIGHT
TZOFFSETFROM:-0500
TZOFFSETTO:-0400
TZNAME:EDT
DTSTART:20250309T070000
END:DAYLIGHT
BEGIN:STANDARD
TZOFFSETFROM:-0400
TZOFFSETTO:-0500
TZNAME:EST
DTSTART:20251102T060000
END:STANDARD
END:VTIMEZONE
BEGIN:VEVENT
DTSTART;TZID=America/New_York:20241109T080000
DTEND;TZID=America/New_York:20241109T170000
DTSTAMP:20260421T213310
CREATED:20240731T152238Z
LAST-MODIFIED:20241021T190508Z
UID:16665-1731139200-1731171600@hillsboroughares.org
SUMMARY:Amateur Radio License Class "Technician Class"
DESCRIPTION:Hillsborough County ARES/RACES is proud to sponsor the  Amateur Radio “Technician” License Course in a traditional classroom setting. Please invite your friends to come join the several hundred people who have taken this courses and earned an Amateur Radio license during the last few years. \nThis is 2 day class. You must attend both days of the class. The class is from 8am to 5pm on Saturday\, October 26th and Saturday\, November 9th.  Testing will take place  on November 9th at 3 pm. \nThe cost is $45 – this includes both classes\, your book\, testing fee and any additional materials. \nThere will be several breaks and 1 hour for lunch. There are fridges at the PSOC for brought lunches\, Uber Eats delivers there and many restaurants close by to choose from. \nYou Must obtain a FCC issued FRN number Before taking the Test. \nWe will explain how to apply during the first class session. \nThe FCC will collect a $35 fee when your License Application is approved.\n\nThe new $35 application fee applies to new\, renewal\, rule waiver\, and modification applications that request a new vanity call sign. The fee will be per application. \nAdministrative updates\, such as a change of name\, mailing or email address\, and modification applications to upgrade an amateur radio licensee’s operator class or to request a sequentially issued call sign\, are exempt from fees. \nYou can review the details of the Fee on the ARRL Website at \nhttps://www.arrl.org/fcc-application-fee \nRegister for this SECOND DAY of class on the October 26th UPCOMMING EVENTS TAB
URL:https://hillsboroughares.org/event/amateur-radio-license-class-technician-class-2/
LOCATION:Hillsborough County PSOC\, 9450 E Columbus Drive\, Tampa\, FL\, 33619\, United States
ATTACH;FMTTYPE=image/jpeg:https://hillsboroughares.org/wp-content/uploads/2021/11/PSOC-Front-NR-1.jpg
END:VEVENT
BEGIN:VEVENT
DTSTART;TZID=America/New_York:20241109T080000
DTEND;TZID=America/New_York:20241109T170000
DTSTAMP:20260421T213310
CREATED:20240731T160621Z
LAST-MODIFIED:20241013T151154Z
UID:16669-1731139200-1731171600@hillsboroughares.org
SUMMARY:CANCELED -- Amateur Radio License Class "General"
DESCRIPTION:This meeting is canceled and will be rescheduled after PSOC is deactivated and has space.  We will Repost at a later date. \nHillsborough County ARES/RACES is proud to sponsor the  Amateur Radio “General” License Course in a traditional classroom setting. Please invite your friends to come join the several hundred people who have taken this courses and earned an Amateur Radio license during the last few years. \nThis is 2 day class. You must attend both days of the class. The class is from 8am to 5pm on Saturday\, October 26th and Saturday\, November 9th.  Testing will take place on November 9th at 3 pm. \nThe cost is $45 – this includes both classes\, your book\, testing fee and any additional materials. \nThere will be several breaks and 1 hour for lunch. There are fridges at the PSOC for brought lunches\, Uber Eats delivers there and many restaurants close by to choose from. \nYou Must obtain a FCC issued FRN number Before taking the Test. \nWe will explain how to apply during the first class session. \nThe FCC will collect a $35 fee when your License Application is approved.\n\nThe new $35 application fee applies to new\, renewal\, rule waiver\, and modification applications that request a new vanity call sign. The fee will be per application. \nAdministrative updates\, such as a change of name\, mailing or email address\, and modification applications to upgrade an amateur radio licensee’s operator class or to request a sequentially issued call sign\, are exempt from fees. \nYou can review the details of the Fee on the ARRL Website at \nhttps://www.arrl.org/fcc-application-fee \n  \nTo Register for this two day class use the link on October\,26th
URL:https://hillsboroughares.org/event/amateur-radio-license-class-general-6/
LOCATION:Hillsborough County PSOC\, 9450 E Columbus Drive\, Tampa\, FL\, 33619\, United States
ATTACH;FMTTYPE=image/jpeg:https://hillsboroughares.org/wp-content/uploads/2021/11/PSOC-Front-NR-1.jpg
END:VEVENT
BEGIN:VEVENT
DTSTART;TZID=America/New_York:20241120T180000
DTEND;TZID=America/New_York:20241120T193000
DTSTAMP:20260421T213310
CREATED:20240717T150017Z
LAST-MODIFIED:20241013T145342Z
UID:16607-1732125600-1732131000@hillsboroughares.org
SUMMARY:Monthly AEC Planning Meeting
DESCRIPTION:AEC’s ONLY
URL:https://hillsboroughares.org/event/monthly-planning-meeting-6/
LOCATION:Hillsborough County PSOC\, 9450 E Columbus Drive\, Tampa\, FL\, 33619\, United States
ATTACH;FMTTYPE=image/jpeg:https://hillsboroughares.org/wp-content/uploads/2021/11/PSOC-Front-NR-1.jpg
END:VEVENT
BEGIN:VEVENT
DTSTART;TZID=America/New_York:20241128T193000
DTEND;TZID=America/New_York:20241128T203000
DTSTAMP:20260421T213310
CREATED:20241122T212717Z
LAST-MODIFIED:20241122T213140Z
UID:16729-1732822200-1732825800@hillsboroughares.org
SUMMARY:ARES/RACES Weekly Net
DESCRIPTION:
URL:https://hillsboroughares.org/event/ares-races-weekly-net-61/
ATTACH;FMTTYPE=image/jpeg:https://hillsboroughares.org/wp-content/uploads/2022/02/ARESNetn1cdo.jpg
END:VEVENT
END:VCALENDAR