BEGIN:VCALENDAR
VERSION:2.0
PRODID:-//Hillsborough County ARES/RACES Inc. - ECPv6.15.20//NONSGML v1.0//EN
CALSCALE:GREGORIAN
METHOD:PUBLISH
X-WR-CALNAME:Hillsborough County ARES/RACES Inc.
X-ORIGINAL-URL:https://hillsboroughares.org
X-WR-CALDESC:Events for Hillsborough County ARES/RACES Inc.
REFRESH-INTERVAL;VALUE=DURATION:PT1H
X-Robots-Tag:noindex
X-PUBLISHED-TTL:PT1H
BEGIN:VTIMEZONE
TZID:America/New_York
BEGIN:DAYLIGHT
TZOFFSETFROM:-0500
TZOFFSETTO:-0400
TZNAME:EDT
DTSTART:20250309T070000
END:DAYLIGHT
BEGIN:STANDARD
TZOFFSETFROM:-0400
TZOFFSETTO:-0500
TZNAME:EST
DTSTART:20251102T060000
END:STANDARD
BEGIN:DAYLIGHT
TZOFFSETFROM:-0500
TZOFFSETTO:-0400
TZNAME:EDT
DTSTART:20260308T070000
END:DAYLIGHT
BEGIN:STANDARD
TZOFFSETFROM:-0400
TZOFFSETTO:-0500
TZNAME:EST
DTSTART:20261101T060000
END:STANDARD
BEGIN:DAYLIGHT
TZOFFSETFROM:-0500
TZOFFSETTO:-0400
TZNAME:EDT
DTSTART:20270314T070000
END:DAYLIGHT
BEGIN:STANDARD
TZOFFSETFROM:-0400
TZOFFSETTO:-0500
TZNAME:EST
DTSTART:20271107T060000
END:STANDARD
END:VTIMEZONE
BEGIN:VEVENT
DTSTART;TZID=America/New_York:20260108T193000
DTEND;TZID=America/New_York:20260108T200000
DTSTAMP:20260419T141918
CREATED:20251030T215947Z
LAST-MODIFIED:20251030T215947Z
UID:17162-1767900600-1767902400@hillsboroughares.org
SUMMARY:ARES/RACES Weekly Net
DESCRIPTION:
URL:https://hillsboroughares.org/event/ares-races-weekly-net/
CATEGORIES:Meeting,Training
ATTACH;FMTTYPE=image/jpeg:https://hillsboroughares.org/wp-content/uploads/2025/06/New-ARES-Net.jpg
END:VEVENT
BEGIN:VEVENT
DTSTART;TZID=America/New_York:20260110T080000
DTEND;TZID=America/New_York:20260110T130000
DTSTAMP:20260419T141918
CREATED:20260106T191741Z
LAST-MODIFIED:20260106T194727Z
UID:17281-1768032000-1768050000@hillsboroughares.org
SUMMARY:TARC FEST
DESCRIPTION:
URL:https://hillsboroughares.org/event/tarc-fest/
END:VEVENT
BEGIN:VEVENT
DTSTART;TZID=America/New_York:20260115T193000
DTEND;TZID=America/New_York:20260115T200000
DTSTAMP:20260419T141918
CREATED:20251030T220141Z
LAST-MODIFIED:20251030T220141Z
UID:17164-1768505400-1768507200@hillsboroughares.org
SUMMARY:ARES/RACES Weekly Net
DESCRIPTION:
URL:https://hillsboroughares.org/event/ares-races-weekly-net-2/
CATEGORIES:Meeting,Training
ATTACH;FMTTYPE=image/jpeg:https://hillsboroughares.org/wp-content/uploads/2025/06/New-ARES-Net.jpg
END:VEVENT
BEGIN:VEVENT
DTSTART;TZID=America/New_York:20260117T090000
DTEND;TZID=America/New_York:20260117T110000
DTSTAMP:20260419T141918
CREATED:20251029T145406Z
LAST-MODIFIED:20260105T233538Z
UID:17156-1768640400-1768647600@hillsboroughares.org
SUMMARY:ARES/RACES Bi Monthly Meeting
DESCRIPTION:
URL:https://hillsboroughares.org/event/ares-races-bi-monthly-meeting/
LOCATION:Hillsborough County PSOC\, 9450 E Columbus Drive\, Tampa\, FL\, 33619\, United States
CATEGORIES:Meeting
ATTACH;FMTTYPE=image/jpeg:https://hillsboroughares.org/wp-content/uploads/2021/11/PSOC-Front-NR-1.jpg
END:VEVENT
BEGIN:VEVENT
DTSTART;TZID=America/New_York:20260121T180000
DTEND;TZID=America/New_York:20260121T190000
DTSTAMP:20260419T141918
CREATED:20251030T221742Z
LAST-MODIFIED:20251030T221742Z
UID:17180-1769018400-1769022000@hillsboroughares.org
SUMMARY:Monthly Planning Meeting
DESCRIPTION:AEC’s Only
URL:https://hillsboroughares.org/event/monthly-planning-meeting-14/
CATEGORIES:Meeting
END:VEVENT
BEGIN:VEVENT
DTSTART;TZID=America/New_York:20260122T080000
DTEND;TZID=America/New_York:20260122T170000
DTSTAMP:20260419T141918
CREATED:20251030T220328Z
LAST-MODIFIED:20251030T220328Z
UID:17166-1769068800-1769101200@hillsboroughares.org
SUMMARY:ARES/RACES Weekly Net
DESCRIPTION:
URL:https://hillsboroughares.org/event/ares-races-weekly-net-3/
CATEGORIES:Meeting,Training
ATTACH;FMTTYPE=image/jpeg:https://hillsboroughares.org/wp-content/uploads/2025/06/New-ARES-Net.jpg
END:VEVENT
BEGIN:VEVENT
DTSTART;VALUE=DATE:20260124
DTEND;VALUE=DATE:20260125
DTSTAMP:20260419T141918
CREATED:20251103T185245Z
LAST-MODIFIED:20251103T185245Z
UID:17195-1769212800-1769299199@hillsboroughares.org
SUMMARY:Children's Gasparilla Parade
DESCRIPTION:
URL:https://hillsboroughares.org/event/childrens-gasparilla-parade/
END:VEVENT
BEGIN:VEVENT
DTSTART;TZID=America/New_York:20260124T110000
DTEND;TZID=America/New_York:20260125T170000
DTSTAMP:20260419T141918
CREATED:20260107T002731Z
LAST-MODIFIED:20260107T193942Z
UID:17287-1769252400-1769360400@hillsboroughares.org
SUMMARY:Winter Field Day at the PSOC
DESCRIPTION:  \nWinter Field Day\nSaturday\, 1/24/26 11AM – Sunday 1/25/26 459PM\nLocation: PSOC RACES room\nWe need volunteers to help get all hours covered.\nPlease contact Myesha Johnson\, AEC-PIO\nmjohnson@hcaresraces.net
URL:https://hillsboroughares.org/event/winter-field-day-at-the-psoc/
ATTACH;FMTTYPE=image/jpeg:https://hillsboroughares.org/wp-content/uploads/2021/11/PSOC-Front-NR-1.jpg
END:VEVENT
BEGIN:VEVENT
DTSTART;TZID=America/New_York:20260129T193000
DTEND;TZID=America/New_York:20260129T200000
DTSTAMP:20260419T141918
CREATED:20251030T220506Z
LAST-MODIFIED:20251030T220506Z
UID:17168-1769715000-1769716800@hillsboroughares.org
SUMMARY:ARES/RACES Weekly Net
DESCRIPTION:
URL:https://hillsboroughares.org/event/ares-races-weekly-net-4/
CATEGORIES:Meeting,Training
ATTACH;FMTTYPE=image/jpeg:https://hillsboroughares.org/wp-content/uploads/2025/06/New-ARES-Net.jpg
END:VEVENT
BEGIN:VEVENT
DTSTART;VALUE=DATE:20260131
DTEND;VALUE=DATE:20260201
DTSTAMP:20260419T141918
CREATED:20251103T185413Z
LAST-MODIFIED:20251103T185413Z
UID:17197-1769817600-1769903999@hillsboroughares.org
SUMMARY:Gasparilla Parade
DESCRIPTION:
URL:https://hillsboroughares.org/event/gasparilla-parade/
END:VEVENT
END:VCALENDAR